BEGIN:VCALENDAR
VERSION:2.0
PRODID:-//The Elles Collective - ECPv6.15.20//NONSGML v1.0//EN
CALSCALE:GREGORIAN
METHOD:PUBLISH
X-ORIGINAL-URL:https://www.theellescollective.org
X-WR-CALDESC:Events for The Elles Collective
REFRESH-INTERVAL;VALUE=DURATION:PT1H
X-Robots-Tag:noindex
X-PUBLISHED-TTL:PT1H
BEGIN:VTIMEZONE
TZID:America/Los_Angeles
BEGIN:DAYLIGHT
TZOFFSETFROM:-0800
TZOFFSETTO:-0700
TZNAME:PDT
DTSTART:20240310T100000
END:DAYLIGHT
BEGIN:STANDARD
TZOFFSETFROM:-0700
TZOFFSETTO:-0800
TZNAME:PST
DTSTART:20241103T090000
END:STANDARD
BEGIN:DAYLIGHT
TZOFFSETFROM:-0800
TZOFFSETTO:-0700
TZNAME:PDT
DTSTART:20250309T100000
END:DAYLIGHT
BEGIN:STANDARD
TZOFFSETFROM:-0700
TZOFFSETTO:-0800
TZNAME:PST
DTSTART:20251102T090000
END:STANDARD
BEGIN:DAYLIGHT
TZOFFSETFROM:-0800
TZOFFSETTO:-0700
TZNAME:PDT
DTSTART:20260308T100000
END:DAYLIGHT
BEGIN:STANDARD
TZOFFSETFROM:-0700
TZOFFSETTO:-0800
TZNAME:PST
DTSTART:20261101T090000
END:STANDARD
END:VTIMEZONE
BEGIN:VEVENT
DTSTART;TZID=America/Los_Angeles:20251030T093000
DTEND;TZID=America/Los_Angeles:20251030T113000
DTSTAMP:20260423T032426
CREATED:20251001T194021Z
LAST-MODIFIED:20251001T194021Z
UID:10000028-1761816600-1761823800@www.theellescollective.org
SUMMARY:Meet the Elles Orange County
DESCRIPTION:Connectez-vous\n\n\n  \n  \n            \n\n                       \n            \n        \n                              Username\n        \n        \n      \n      \n        \n          Password\n          \n            \n            \n              \n            \n          \n        \n      \n      \n                Vous n’êtes pas encore membre ? Rejoignez-nous !\n                     \n         Remember Me\n      \n       \n      \n        \n        \n        \n        \n      \n    \n     \n    \n        \n          Forgot Password
URL:https://www.theellescollective.org/event/networking-femmes-francophones-orange-county-irvine/
CATEGORIES:Meet the Elles
ATTACH;FMTTYPE=image/png:https://www.theellescollective.org/wp-content/uploads/2025/10/Meet-the-Elles-OC-OCTOBRE-25-INSTA.png
END:VEVENT
BEGIN:VEVENT
DTSTART;TZID=America/Los_Angeles:20251023T180000
DTEND;TZID=America/Los_Angeles:20251023T193000
DTSTAMP:20260423T032426
CREATED:20250912T215923Z
LAST-MODIFIED:20251020T164829Z
UID:10000022-1761242400-1761247800@www.theellescollective.org
SUMMARY:Meet the Elles Los Angeles
DESCRIPTION:Connectez-vous
URL:https://www.theellescollective.org/event/meet-the-elles-los-angeles-3/
CATEGORIES:Meet the Elles
ATTACH;FMTTYPE=image/png:https://www.theellescollective.org/wp-content/uploads/2025/09/Copy-of-Copy-of-Meet-the-Elles-LA-23-OCT-25-1080-x-1350-px.png
END:VEVENT
BEGIN:VEVENT
DTSTART;TZID=America/Los_Angeles:20251022T083000
DTEND;TZID=America/Los_Angeles:20251022T093000
DTSTAMP:20260423T032426
CREATED:20250925T170219Z
LAST-MODIFIED:20250925T170219Z
UID:10000026-1761121800-1761125400@www.theellescollective.org
SUMMARY:Meet the Elles Online - Octobre 2025
DESCRIPTION:Connectez-vous
URL:https://www.theellescollective.org/event/meet-the-elles-online-octobre-2025/
CATEGORIES:Meet the Elles
ATTACH;FMTTYPE=image/png:https://www.theellescollective.org/wp-content/uploads/2025/09/meet-the-elles-online-OCTOBRE-2025.png
LOCATION:https://us06web.zoom.us/j/82064565461
END:VEVENT
BEGIN:VEVENT
DTSTART;TZID=America/Los_Angeles:20251016T093000
DTEND;TZID=America/Los_Angeles:20251016T110000
DTSTAMP:20260423T032426
CREATED:20251008T173652Z
LAST-MODIFIED:20251008T173652Z
UID:10000031-1760607000-1760612400@www.theellescollective.org
SUMMARY:Meet the Elles San Francisco 
DESCRIPTION:Connectez-vous
URL:https://www.theellescollective.org/event/meet-the-elles-san-francisco-3/
CATEGORIES:Meet the Elles
ATTACH;FMTTYPE=image/png:https://www.theellescollective.org/wp-content/uploads/2025/10/Meet-the-Elles-sf-OCTOBRE-2025.png
END:VEVENT
BEGIN:VEVENT
DTSTART;TZID=America/Los_Angeles:20251014T120000
DTEND;TZID=America/Los_Angeles:20251014T120000
DTSTAMP:20260423T032426
CREATED:20251001T174340Z
LAST-MODIFIED:20251001T174839Z
UID:10000027-1760443200-1760443200@www.theellescollective.org
SUMMARY:Meet the Elles San Diego
DESCRIPTION:Connectez-vous
URL:https://www.theellescollective.org/event/networking-femmes-san-diego/
CATEGORIES:Meet the Elles
ATTACH;FMTTYPE=image/png:https://www.theellescollective.org/wp-content/uploads/2025/10/Meet-the-Elles-SD-OCTOBRE-25-1080-x-1350-px.png
END:VEVENT
BEGIN:VEVENT
DTSTART;TZID=America/Los_Angeles:20251009T100000
DTEND;TZID=America/Los_Angeles:20251009T120000
DTSTAMP:20260423T032426
CREATED:20250912T205114Z
LAST-MODIFIED:20251006T162436Z
UID:10000021-1760004000-1760011200@www.theellescollective.org
SUMMARY:Meet the Elles Los Angeles - Booster Walk
DESCRIPTION:Connectez-vous
URL:https://www.theellescollective.org/event/meet-the-elles-los-angeles-2/
CATEGORIES:Meet the Elles
ATTACH;FMTTYPE=image/png:https://www.theellescollective.org/wp-content/uploads/2025/09/Meet-the-Elles-LA-OCT-25-1080-x-1350-px-1.png
END:VEVENT
BEGIN:VEVENT
DTSTART;TZID=America/Los_Angeles:20250930T083000
DTEND;TZID=America/Los_Angeles:20250930T093000
DTSTAMP:20260423T032426
CREATED:20250924T184045Z
LAST-MODIFIED:20250925T170601Z
UID:10000025-1759221000-1759224600@www.theellescollective.org
SUMMARY:Meet the Elles Online - Septembre 2025
DESCRIPTION:Connectez-vous
URL:https://www.theellescollective.org/event/networking-online-femmes-entrepreneures-actives-usa/
LOCATION:Online
CATEGORIES:Meet the Elles
ATTACH;FMTTYPE=image/png:https://www.theellescollective.org/wp-content/uploads/2025/09/meet-the-elles-online-septembre-2025.png
END:VEVENT
BEGIN:VEVENT
DTSTART;TZID=America/Los_Angeles:20250922T180000
DTEND;TZID=America/Los_Angeles:20250922T203000
DTSTAMP:20260423T032426
CREATED:20250904T182153Z
LAST-MODIFIED:20250916T191821Z
UID:10000017-1758564000-1758573000@www.theellescollective.org
SUMMARY:Meet the Elles Orange County
DESCRIPTION:Connectez-vous
URL:https://www.theellescollective.org/event/meet-the-elles-orange-county-2/
CATEGORIES:Meet the Elles
ATTACH;FMTTYPE=image/png:https://www.theellescollective.org/wp-content/uploads/2025/09/Meet-the-Elles-ORANGE-COUNTY-THE-ELLES-COLLECTIVE-SEPTEMBRE-25.png
END:VEVENT
BEGIN:VEVENT
DTSTART;TZID=America/Los_Angeles:20250922T120000
DTEND;TZID=America/Los_Angeles:20250922T133000
DTSTAMP:20260423T032426
CREATED:20250910T202128Z
LAST-MODIFIED:20250916T191055Z
UID:10000019-1758542400-1758547800@www.theellescollective.org
SUMMARY:Meet the Elles San Francisco
DESCRIPTION:Connectez-vous
URL:https://www.theellescollective.org/event/meet-the-elles-san-francisco-2/
CATEGORIES:Meet the Elles
ATTACH;FMTTYPE=image/png:https://www.theellescollective.org/wp-content/uploads/2025/09/Meet-the-Elles-sf-SEPTEMBRE-2025.png
END:VEVENT
BEGIN:VEVENT
DTSTART;TZID=America/Los_Angeles:20250917T091500
DTEND;TZID=America/Los_Angeles:20250917T111500
DTSTAMP:20260423T032426
CREATED:20250905T153807Z
LAST-MODIFIED:20250916T175925Z
UID:10000018-1758100500-1758107700@www.theellescollective.org
SUMMARY:Meet the Elles Los Angeles
DESCRIPTION:Connectez-vous
URL:https://www.theellescollective.org/event/meet-the-elles-los-angeles/
CATEGORIES:Meet the Elles
ATTACH;FMTTYPE=image/png:https://www.theellescollective.org/wp-content/uploads/2025/09/Meet-the-Elles-LA-SEPT-25-1080-x-1350-px-2.png
END:VEVENT
BEGIN:VEVENT
DTSTART;TZID=America/Los_Angeles:20250909T120000
DTEND;TZID=America/Los_Angeles:20250909T140000
DTSTAMP:20260423T032426
CREATED:20250903T161853Z
LAST-MODIFIED:20250908T161240Z
UID:10000016-1757419200-1757426400@www.theellescollective.org
SUMMARY:Meet the Elles San Diego
DESCRIPTION:Connectez-vous
URL:https://www.theellescollective.org/event/meet-the-elles-san-diego/
CATEGORIES:Meet the Elles
ATTACH;FMTTYPE=image/png:https://www.theellescollective.org/wp-content/uploads/2025/09/Meet-the-Elles-SAN-DIEGO-SEPT-2025.png
END:VEVENT
BEGIN:VEVENT
DTSTART;TZID=America/Los_Angeles:20250822T093000
DTEND;TZID=America/Los_Angeles:20250822T113000
DTSTAMP:20260423T032426
CREATED:20250802T122552Z
LAST-MODIFIED:20250802T123130Z
UID:10000012-1755855000-1755862200@www.theellescollective.org
SUMMARY:Meet the Elles Orange County
DESCRIPTION:Connectez-vous
URL:https://www.theellescollective.org/event/meet-the-elles-orange-county/
CATEGORIES:Meet the Elles
ATTACH;FMTTYPE=image/png:https://www.theellescollective.org/wp-content/uploads/2025/08/Capture-decran-2025-08-02-a-14.23.14.png
END:VEVENT
BEGIN:VEVENT
DTSTART;TZID=America/Los_Angeles:20250822T093000
DTEND;TZID=America/Los_Angeles:20250822T110000
DTSTAMP:20260423T032426
CREATED:20250802T120050Z
LAST-MODIFIED:20250802T120330Z
UID:10000009-1755855000-1755860400@www.theellescollective.org
SUMMARY:Meet the Elles San Francisco
DESCRIPTION:Connectez-vous
URL:https://www.theellescollective.org/event/meet-the-elles-san-francisco/
CATEGORIES:Meet the Elles
END:VEVENT
BEGIN:VEVENT
DTSTART;TZID=America/Los_Angeles:20250821T120000
DTEND;TZID=America/Los_Angeles:20250821T140000
DTSTAMP:20260423T032426
CREATED:20250814T202250Z
LAST-MODIFIED:20250814T202250Z
UID:10000013-1755777600-1755784800@www.theellescollective.org
SUMMARY:Meet the Elles Los Angeles - August 2025
DESCRIPTION:Connectez-vous
URL:https://www.theellescollective.org/event/meet-the-elles-los-angeles-august-2025/
CATEGORIES:Meet the Elles
ATTACH;FMTTYPE=image/png:https://www.theellescollective.org/wp-content/uploads/2025/08/Meet-the-Elles-LA-AUGUST-25-1080-x-1350-px.png
END:VEVENT
BEGIN:VEVENT
DTSTART;TZID=America/Los_Angeles:20250820T080000
DTEND;TZID=America/Los_Angeles:20250820T093000
DTSTAMP:20260423T032426
CREATED:20250802T121005Z
LAST-MODIFIED:20250818T152750Z
UID:10000010-1755676800-1755682200@www.theellescollective.org
SUMMARY:Meet the Elles Online
DESCRIPTION:Connectez-vous
URL:https://www.theellescollective.org/event/meet-the-elles-online/
LOCATION:Online
CATEGORIES:Meet the Elles
END:VEVENT
END:VCALENDAR