BEGIN:VCALENDAR
VERSION:2.0
PRODID:-//The Elles Collective - ECPv6.15.20//NONSGML v1.0//EN
CALSCALE:GREGORIAN
METHOD:PUBLISH
X-WR-CALNAME:The Elles Collective
X-ORIGINAL-URL:https://www.theellescollective.org
X-WR-CALDESC:Events for The Elles Collective
REFRESH-INTERVAL;VALUE=DURATION:PT1H
X-Robots-Tag:noindex
X-PUBLISHED-TTL:PT1H
BEGIN:VTIMEZONE
TZID:America/Los_Angeles
BEGIN:DAYLIGHT
TZOFFSETFROM:-0800
TZOFFSETTO:-0700
TZNAME:PDT
DTSTART:20240310T100000
END:DAYLIGHT
BEGIN:STANDARD
TZOFFSETFROM:-0700
TZOFFSETTO:-0800
TZNAME:PST
DTSTART:20241103T090000
END:STANDARD
BEGIN:DAYLIGHT
TZOFFSETFROM:-0800
TZOFFSETTO:-0700
TZNAME:PDT
DTSTART:20250309T100000
END:DAYLIGHT
BEGIN:STANDARD
TZOFFSETFROM:-0700
TZOFFSETTO:-0800
TZNAME:PST
DTSTART:20251102T090000
END:STANDARD
BEGIN:DAYLIGHT
TZOFFSETFROM:-0800
TZOFFSETTO:-0700
TZNAME:PDT
DTSTART:20260308T100000
END:DAYLIGHT
BEGIN:STANDARD
TZOFFSETFROM:-0700
TZOFFSETTO:-0800
TZNAME:PST
DTSTART:20261101T090000
END:STANDARD
END:VTIMEZONE
BEGIN:VEVENT
DTSTART;TZID=America/Los_Angeles:20251112T120000
DTEND;TZID=America/Los_Angeles:20251112T130000
DTSTAMP:20260424T080435
CREATED:20250916T182628Z
LAST-MODIFIED:20251111T165911Z
UID:10000024-1762948800-1762952400@www.theellescollective.org
SUMMARY:Live Workshop - Comment se mettre en valeur sur le marché du travail américain ?
DESCRIPTION:Comment se mettre en valeur sur le marché du travail américain ? Quelles démarches concrètes entreprendre et quels codes connaître pour réussir sa recherche d’emploi aux États-Unis ?\nMyriam Le Cannellier abordera également les spécificités entre une première recherche d’emploi aux US et le fait de changer de poste une fois déjà implanté. \nUn atelier concret\, plein de conseils actionnables pour trouver le bon job et comprendre les codes américains. \nA propos de Myriam Le Cannellier :Managing Partner chez Alexandre Hughes USA\, Myriam possède plus de 20 ans d’expérience dans l’accompagnement d’entreprises européennes implantées aux États-Unis. Experte en recrutement de cadres dirigeants (DG\, VP\, Directeurs)\, elle a travaillé avec des sociétés issues de secteurs variés tels que l’industrie\, les sciences de la vie\, le SaaS\, l’emballage ou encore les biens de consommation. \nPolyglotte (français\, anglais\, espagnol)\, diplômée d’ingénieur et de HEC Paris\, elle apporte une vision stratégique et opérationnelle unique du marché américain\, nourrie par un parcours international riche (Argentine\, France\, États-Unis). \nInscription obligatoire pour recevoir le lien Zoom. \nCet événement est gratuit pour les membres de l’association et ouvert aux guests au tarif de $20.
URL:https://www.theellescollective.org/event/emploi-marche-travail-americain/
CATEGORIES:Workshop Online
ATTACH;FMTTYPE=image/png:https://www.theellescollective.org/wp-content/uploads/2025/09/workshop-Myriam.png
LOCATION:https://us06web.zoom.us/j/82079721117
END:VEVENT
END:VCALENDAR