BEGIN:VCALENDAR
VERSION:2.0
PRODID:-//The Elles Collective - ECPv6.15.20//NONSGML v1.0//EN
CALSCALE:GREGORIAN
METHOD:PUBLISH
X-ORIGINAL-URL:https://www.theellescollective.org
X-WR-CALDESC:Events for The Elles Collective
REFRESH-INTERVAL;VALUE=DURATION:PT1H
X-Robots-Tag:noindex
X-PUBLISHED-TTL:PT1H
BEGIN:VTIMEZONE
TZID:America/Los_Angeles
BEGIN:DAYLIGHT
TZOFFSETFROM:-0800
TZOFFSETTO:-0700
TZNAME:PDT
DTSTART:20240310T100000
END:DAYLIGHT
BEGIN:STANDARD
TZOFFSETFROM:-0700
TZOFFSETTO:-0800
TZNAME:PST
DTSTART:20241103T090000
END:STANDARD
BEGIN:DAYLIGHT
TZOFFSETFROM:-0800
TZOFFSETTO:-0700
TZNAME:PDT
DTSTART:20250309T100000
END:DAYLIGHT
BEGIN:STANDARD
TZOFFSETFROM:-0700
TZOFFSETTO:-0800
TZNAME:PST
DTSTART:20251102T090000
END:STANDARD
BEGIN:DAYLIGHT
TZOFFSETFROM:-0800
TZOFFSETTO:-0700
TZNAME:PDT
DTSTART:20260308T100000
END:DAYLIGHT
BEGIN:STANDARD
TZOFFSETFROM:-0700
TZOFFSETTO:-0800
TZNAME:PST
DTSTART:20261101T090000
END:STANDARD
END:VTIMEZONE
BEGIN:VEVENT
DTSTART;TZID=America/Los_Angeles:20250708T091500
DTEND;TZID=America/Los_Angeles:20250708T103000
DTSTAMP:20260423T083255
CREATED:20250529T162226Z
LAST-MODIFIED:20250602T155012Z
UID:10000005-1751966100-1751970600@www.theellescollective.org
SUMMARY:Café Virtu'Elles - Networking online 100% féminin !
DESCRIPTION:Rejoins-nous pour notre café Virtu’Elles\, évènement networking 100% dédié aux femmes francophones actives ou entrepreneures aux États-Unis ! \nNous nous rencontrerons\, nous échangerons\, nous réseauterons pour développer notre réseau professionnel\, partager des expériences\, trouver de l’entraide en toute bienveillance. \nC’est aussi l’opportunité de présenter son business ou son projet\, pour une de nos membres\, qui souhaite entrainer son pitch et recevoir du feedback ! \nSi tu souhaites être notre invitée focus pour un de nos cafés\, inscris-toi ici => https://www.signupgenius.com/go/10C094FA8AC23ABFBC52-focus \nNouvelle ? Découvre notre réseau gratuitement lors de ta première participation ! \nInscris-toi vite ! \n(Inscription obligatoire) \nLe lien zoom sera envoyé la veille de l’évènement.
URL:https://www.theellescollective.org/event/cafe-virtuelles-networking-online-100-feminin/
CATEGORIES:Café Virtu’Elles
ATTACH;FMTTYPE=image/png:https://www.theellescollective.org/wp-content/uploads/2025/05/cafe-virtuelles-juillet-2025-website.png
LOCATION:
END:VEVENT
END:VCALENDAR