BEGIN:VCALENDAR
VERSION:2.0
PRODID:-//The Elles Collective - ECPv6.15.20//NONSGML v1.0//EN
CALSCALE:GREGORIAN
METHOD:PUBLISH
X-WR-CALNAME:The Elles Collective
X-ORIGINAL-URL:https://www.theellescollective.org
X-WR-CALDESC:Events for The Elles Collective
REFRESH-INTERVAL;VALUE=DURATION:PT1H
X-Robots-Tag:noindex
X-PUBLISHED-TTL:PT1H
BEGIN:VTIMEZONE
TZID:America/Los_Angeles
BEGIN:DAYLIGHT
TZOFFSETFROM:-0800
TZOFFSETTO:-0700
TZNAME:PDT
DTSTART:20250309T100000
END:DAYLIGHT
BEGIN:STANDARD
TZOFFSETFROM:-0700
TZOFFSETTO:-0800
TZNAME:PST
DTSTART:20251102T090000
END:STANDARD
BEGIN:DAYLIGHT
TZOFFSETFROM:-0800
TZOFFSETTO:-0700
TZNAME:PDT
DTSTART:20260308T100000
END:DAYLIGHT
BEGIN:STANDARD
TZOFFSETFROM:-0700
TZOFFSETTO:-0800
TZNAME:PST
DTSTART:20261101T090000
END:STANDARD
BEGIN:DAYLIGHT
TZOFFSETFROM:-0800
TZOFFSETTO:-0700
TZNAME:PDT
DTSTART:20270314T100000
END:DAYLIGHT
BEGIN:STANDARD
TZOFFSETFROM:-0700
TZOFFSETTO:-0800
TZNAME:PST
DTSTART:20271107T090000
END:STANDARD
END:VTIMEZONE
BEGIN:VTIMEZONE
TZID:America/Denver
BEGIN:DAYLIGHT
TZOFFSETFROM:-0700
TZOFFSETTO:-0600
TZNAME:MDT
DTSTART:20250309T090000
END:DAYLIGHT
BEGIN:STANDARD
TZOFFSETFROM:-0600
TZOFFSETTO:-0700
TZNAME:MST
DTSTART:20251102T080000
END:STANDARD
BEGIN:DAYLIGHT
TZOFFSETFROM:-0700
TZOFFSETTO:-0600
TZNAME:MDT
DTSTART:20260308T090000
END:DAYLIGHT
BEGIN:STANDARD
TZOFFSETFROM:-0600
TZOFFSETTO:-0700
TZNAME:MST
DTSTART:20261101T080000
END:STANDARD
BEGIN:DAYLIGHT
TZOFFSETFROM:-0700
TZOFFSETTO:-0600
TZNAME:MDT
DTSTART:20270314T090000
END:DAYLIGHT
BEGIN:STANDARD
TZOFFSETFROM:-0600
TZOFFSETTO:-0700
TZNAME:MST
DTSTART:20271107T080000
END:STANDARD
END:VTIMEZONE
BEGIN:VEVENT
DTSTART;TZID=America/Los_Angeles:20260113T091500
DTEND;TZID=America/Los_Angeles:20260113T103000
DTSTAMP:20260422T194822
CREATED:20251215T164909Z
LAST-MODIFIED:20260112T173823Z
UID:10000056-1768295700-1768300200@www.theellescollective.org
SUMMARY:Café Virtu’Elles Janvier 2026
DESCRIPTION:Rejoins-nous pour notre café Virtu’Elles\, évènement networking 100% dédié aux femmes francophones actives ou entrepreneures aux États-Unis ! \nNous nous rencontrerons\, nous échangerons\, nous réseauterons pour développer notre réseau professionnel\, partager des expériences\, trouver de l’entraide en toute bienveillance. \nC’est aussi l’opportunité de présenter son business ou son projet\, pour une de nos membres\, qui souhaite entrainer son pitch et recevoir du feedback ! \nSi tu es membre et que tu souhaites être notre invitée focus* pour un de nos cafés\, inscris-toi ici => https://www.signupgenius.com/go/10C094FA8AC23ABFBC52-61207216-focus#/ \nNouvelle ? Découvre notre réseau gratuitement lors de ta première participation ! \nInscris-toi vite ! \n(Inscription obligatoire) \nLe lien zoom de l’évènement se trouve dans l’email de confirmation une fois inscrite. \n  \n*Qu’est-ce que l’invitée focus ?  \nLors de nos Cafés\, une membre peut être “invitée focus”.Cela signifie faire une présentation un peu plus approfondie\, avec quelques slides\, pour partager ton parcours\, ton activité et ce que tu proposes. \nC’est une belle opportunité pour : \n\nt’entraîner à pitcher\,\nrecevoir du feedback si ton message n’est pas encore clair\,\npermettre au groupe de mieux comprendre ce que tu fais.\n\nPlus nous nous connaissons\, mieux nous pouvons réseauter\, parler les unes des autres et créer des connexions parfois indirectes mais toujours précieuses. \n👉 Cette possibilité est réservée uniquement aux membres : une invitée qui participe pour la première fois au Café ne peut pas être “invitée focus”.
URL:https://www.theellescollective.org/event/cafe-virtuelles-networking-online-100-feminin-janvier2026/
LOCATION:Café Virtu’Elles\, Événement en ligne\, Online\, Online\, Online\, United States
ATTACH;FMTTYPE=image/png:https://www.theellescollective.org/wp-content/uploads/2025/12/Cafe-virtuelles-janvier-2026-1080-x-1350-px.png
END:VEVENT
BEGIN:VEVENT
DTSTART;TZID=America/Los_Angeles:20260115T120000
DTEND;TZID=America/Los_Angeles:20260115T133000
DTSTAMP:20260422T194822
CREATED:20260109T012436Z
LAST-MODIFIED:20260109T012436Z
UID:10000061-1768478400-1768483800@www.theellescollective.org
SUMMARY:Meet the Elles – San Francisco 
DESCRIPTION:Meet the Elles – San Francisco\nUn moment privilégié pour se retrouver entre femmes francophones\, échanger\, prendre du recul et avancer ensemble dans une ambiance bienveillante et inspirante. \nFocus de ce Meet : clarification de nos objectifs 2026Prendre le temps de poser les bases de l’année à venir : \n\nMettre des mots (et des chiffres 😉) sur nos ambitions\nClarifier nos priorités personnelles et professionnelleS\nPartager nos réflexions\, nos doutes et nos élans\nS’appuyer sur l’intelligence collective pour gagner en clarté et en alignement\n\nUn rendez-vous pensé comme une pause stratégique\, pour repartir avec une vision plus nette et des intentions concrètes pour 2026. \n👉 Première participation ?Tu es la bienvenue une fois en tant qu’invitée pour découvrir l’esprit du collectif. \nInscription obligatoire – places limitées \n📍 Quartier de Noe Valley(L’adresse exacte sera envoyée aux inscrites)
URL:https://www.theellescollective.org/event/meet-the-elles-san-francisco-5/
ATTACH;FMTTYPE=image/png:https://www.theellescollective.org/wp-content/uploads/2026/01/Meet-the-Elles-sf-JANV-2026.png
END:VEVENT
BEGIN:VEVENT
DTSTART;TZID=America/Los_Angeles:20260116T090000
DTEND;TZID=America/Los_Angeles:20260116T110000
DTSTAMP:20260422T194822
CREATED:20260109T013712Z
LAST-MODIFIED:20260114T213157Z
UID:10000062-1768554000-1768561200@www.theellescollective.org
SUMMARY:Meet the Elles San Diego
DESCRIPTION:Meet the Elles San Diego \nAu programme : \n\nRencontres et échanges bienveillants\nPartage d’expériences et de projets\nProfitez de l’intelligence collective pour avancer plus vite.\n\nUn rendez-vous pensé pour créer des connexions authentiques\, nourrir vos idées et repartir boostée\, le tout autour de la galette des rois\, dans une ambiance chaleureuse et conviviale. \nPremière participation ? Vous êtes la bienvenue une fois en tant qu’invitée afin de découvrir l’esprit du collectif. \nInscription obligatoire
URL:https://www.theellescollective.org/event/meet-the-elles-san-diego-3/
ATTACH;FMTTYPE=image/png:https://www.theellescollective.org/wp-content/uploads/2026/01/Copy-of-meet-the-elles-sd-JANVIER-2026.png
END:VEVENT
BEGIN:VEVENT
DTSTART;TZID=America/Los_Angeles:20260116T100000
DTEND;TZID=America/Los_Angeles:20260116T130000
DTSTAMP:20260422T194822
CREATED:20260104T195736Z
LAST-MODIFIED:20260104T195736Z
UID:10000059-1768557600-1768568400@www.theellescollective.org
SUMMARY:Meet the Elles Los Angeles
DESCRIPTION:Faire le bilan 2025 & clarifier vos objectifs 2026… autour de la galette des rois 👑 \nRejoignez-nous pour le premier Meet the Elles de l’année à Los Angeles\, un moment privilégié pour faire le point sur 2025\, prendre du recul et clarifier vos objectifs pour 2026\, dans une atmosphère chaleureuse et conviviale. \nNous nous retrouverons autour d’un moment gourmand :☕ profitez de l’occasion pour commander votre boisson préférée sur place\,👑 une part de galette des rois vous sera offerte pour célébrer ce début d’année ensemble. \nÀ la rencontre de Josette Leblond :\nNous aurons le plaisir d’être accueillies par Josette Leblond\, cheffe et fondatrice de Normandie Bakery\, véritable institution française à Los Angeles. \nOriginaire de Normandie\, Josette partage depuis plus de 40 ans son amour de la gastronomie française à travers des pains\, pâtisseries et recettes emblématiques\, tout en portant avec passion l’art de vivre à la française aux États-Unis.Elle nous racontera son parcours entrepreneurial\, ses défis\, ses choix et son expérience de femme cheffe et entrepreneure à Los Angeles. \nAu programme :\n\nAccueil & moment gourmand\nTémoignage et échanges avec Josette Leblond\nTemps de partage en intelligence collective\n\nUn rendez-vous pensé pour créer des connexions authentiques\, s’inspirer et repartir avec plus de clarté et d’élan. \n👉 Première participation ?Vous êtes la bienvenue une fois en tant qu’invitée pour découvrir l’esprit du collectif. \n📍 Lieu : Normandie Bakery – 8221 W 3rd St – Los Angeles\, CA 90048
URL:https://www.theellescollective.org/event/meet-the-elles-los-angeles-bilan-2025-objectifs-2026/
ATTACH;FMTTYPE=image/png:https://www.theellescollective.org/wp-content/uploads/2026/01/Meet-the-Elles-LA-Janvier-2026.png
END:VEVENT
BEGIN:VEVENT
DTSTART;TZID=America/Los_Angeles:20260121T100000
DTEND;TZID=America/Los_Angeles:20260123T120000
DTSTAMP:20260422T194822
CREATED:20251017T163017Z
LAST-MODIFIED:20260105T175615Z
UID:10000032-1768989600-1769169600@www.theellescollective.org
SUMMARY:The Elles Collective Seminar 2026 - Members only
DESCRIPTION:Le séminaire signature de The Elles Collective revient pour une nouvelle édition inspirante et pleine d’énergie.Trois jours pour faire une pause\, te reconnecter à ta vision et repartir reboostée ! \nPendant ce séminaire\, tu pourras : \n\nRebooster ton énergie et ta motivation\nPrendre du recul sur ton projet ou ton activité et clarifier ta stratégie\nTravailler en petit groupe sur ton projet et recevoir des retours concrets\nCréer des liens forts et authentiques avec d’autres femmes\nRetrouver équilibre\, clarté et inspiration pour ton année 2026\n\nUn rendez-vous unique pour démarrer l’année avec confiance\, clarté et élan collectif. \nMore details to come!\n\nInfos pratiques\nLe séminaire se déroulera du 21 (10am) au 23 janvier 2026 (2pm) dans le cadre fabuleux de The Paloma Resort à Palm Springs.👉 Découvrir le lieu \nCe séjour comprend : \n\n2 nuits d’hébergement\n5 repas\nL’ensemble des activités et ateliers du séminaire\n\n\nTarifs\n\n$680 par personne en chambre seule\n$450* par personne en chambre partagée (un lit king size par chambre)\n\n*Si tu souhaites partager ta chambre\, merci de réserver en même temps que ta binôme et d’indiquer son nom lors de l’inscription. \nLe transport et les éventuels extras restent à la charge des participantes. \nPour celles qui viennent en avion\, l’aéroport Ontario International Airport (ONT) se trouve directement sur la route de Palm Springs et il propose généralement des tarifs très attractifs. \nCelles qui feront le trajet en voiture depuis LA par exemple\, pourront si besoin\, récupérer d’autres participantes à l’aéroport sur le chemin du séminaire. \n\nConditions & réservation\nCe séminaire en personne est réservé aux membres de l’association The Elles Collective. \nPour réserver ta place : \n\nUn acompte de $200 est demandé au moment de l’inscription\nLe solde sera dû au plus tard le 5 janvier 2026\n\n⚠️ Nombre de places limitéFermeture des inscriptions le 31 décembre 2025\, dans la limite des places disponibles. \n\n\nEn procédant au paiement de l’acompte\, la participante reconnaît avoir pris connaissance et accepté les conditions suivantes : \n\nLe versement de l’acompte de $200 a pour objet de réserver et garantir une place au séminaire The Elles Collective\, qui se tiendra du 21 au 23 janvier 2026 à The Paloma Resort\, Palm Springs.\nCet acompte est ferme et non remboursable\, quelle qu’en soit la raison du désistement.\nLe paiement de l’acompte engage la participante à régler le solde du montant total du séminaire\, soit avant le 5 janvier 2026.\nEn cas de non-paiement du solde à la date prévue\, la place pourra être réattribuée sans remboursement de l’acompte.\nEn cas d’annulation du séminaire par The Elles Collective\, l’intégralité des sommes versées (acompte et solde éventuel) sera remboursée à la participante.\nLe transport et les éventuels frais annexes (extras\, dépenses personnelles\, etc.) restent à la charge de la participante.
URL:https://www.theellescollective.org/event/7315/
CATEGORIES:Autres
ATTACH;FMTTYPE=image/png:https://www.theellescollective.org/wp-content/uploads/2025/10/TEASER.png
END:VEVENT
BEGIN:VEVENT
DTSTART;TZID=America/Denver:20260126T090000
DTEND;TZID=America/Denver:20260126T103000
DTSTAMP:20260422T194822
CREATED:20260109T135021Z
LAST-MODIFIED:20260109T135021Z
UID:10000063-1769418000-1769423400@www.theellescollective.org
SUMMARY:Meet the Elles Denver
DESCRIPTION:Meet the Elles – Denver\nUn moment pour se retrouver\, échanger et avancer ensemble. \nRejoins-nous pour un Meet the Elles à Denver\, dédié aux femmes francophones actives et entrepreneures\, dans une ambiance conviviale\, bienveillante et stimulante. \n🎯 Focus du jour : LinkedIn – comment se présenter sur la plateformeParce que LinkedIn est aujourd’hui un outil incontournable\, nous prendrons un temps pour : \n\nRéfléchir à la manière de se présenter de façon claire et authentique\nMieux formuler son positionnement et son message\nPartager bonnes pratiques\, questions et retours d’expérience\nGagner en cohérence et en impact sur son profil LinkedIn\n\nComme toujours\, ce Meet sera aussi un temps d’échanges ouverts\, de partage de parcours\, de wins et de challenges\, où l’intelligence collective permet à chacune de repartir avec plus de clarté et de confiance. \n👉 Première participation ?Tu es la bienvenue une fois en tant qu’invitée pour découvrir l’esprit du collectif. \nInscription obligatoire 
URL:https://www.theellescollective.org/event/meet-the-elles-denver-2/
ATTACH;FMTTYPE=image/png:https://www.theellescollective.org/wp-content/uploads/2026/01/Meet-the-Elles-DENVER-JANVIER-2026-1.png
END:VEVENT
BEGIN:VEVENT
DTSTART;TZID=America/Los_Angeles:20260130T093000
DTEND;TZID=America/Los_Angeles:20260130T113000
DTSTAMP:20260422T194823
CREATED:20251221T192331Z
LAST-MODIFIED:20251221T194020Z
UID:10000058-1769765400-1769772600@www.theellescollective.org
SUMMARY:Meet the Elles Orange County
DESCRIPTION:Meet the Elles Orange County\nUn moment pour échanger\, avancer et s’inspirer. \nViens partager tes wins et tes challenges du moment : \n\nBrainstormer ensemble pour trouver des pistes nouvelles\nSe fixer des objectifs concrets\nÉchanger conseils\, idées et retours d’expérience\n\nUn rendez-vous pensé pour créer des connexions authentiques et repartir avec de l’élan et de la clarté. \nPremière participation ? Tu es la bienvenue une fois en tant qu’invitée pour découvrir l’esprit du collectif. \nInscris-toi vite !
URL:https://www.theellescollective.org/event/meet-the-elles-orange-county-4/
ATTACH;FMTTYPE=image/png:https://www.theellescollective.org/wp-content/uploads/2025/12/Meet-the-Elles-OC-JANVIER-26-1.png
END:VEVENT
BEGIN:VEVENT
DTSTART;TZID=America/Los_Angeles:20260130T170000
DTEND;TZID=America/Los_Angeles:20260130T210000
DTSTAMP:20260422T194823
CREATED:20251218T202647Z
LAST-MODIFIED:20251218T204602Z
UID:10000057-1769792400-1769806800@www.theellescollective.org
SUMMARY:Cocktail Party – San Diego Chapter
DESCRIPTION:Cocktail Party – San Diego Chapter\nFundraising Sprint Winners 2025 \nElle est enfin là… et vous l’avez amplement méritée ! \nAu mois de mars\, l’ensemble des chapters de The Elles Collective a relevé le défi du Fundraising Sprint 2025 avec une énergie et un engagement remarquables.Un immense merci à tous les chapters pour avoir joué le jeu et soutenu le collectif. \nMais en 2025\, un chapter s’est particulièrement distingué :🏆 le grand gagnant est le chapter San Diego ! \nPour célébrer cette victoire et vous remercier de votre mobilisation\, nous avons le plaisir de vous inviter à une soirée\, pensée comme un moment de célébration\, de convivialité et de retrouvailles. \n🥂 Au programme : \n\nChampagne pour trinquer à cette belle réussite\nPizza bar : venez composer votre propre pizza et partager un moment gourmand et décontracté\nDes échanges informels\, des retrouvailles et beaucoup de bonne énergie\n\nUn grand merci à notre hôte et supporter\, Christophe Jouin\, pour son précieux soutien à cette soirée. \nUn cadre chaleureux\, des échanges informels\, un verre à la main\, et surtout l’occasion de célébrer ensemble cette belle réussite collective. \nInformations importantes \n\nÉvénement réservé aux membres du chapter San Diego\nVous pouvez venir accompagnée de votre +1\nInscription obligatoire\n\nNous avons hâte de vous retrouver pour lever nos verres à cette victoire et à l’énergie incroyable du chapter San Diego ✨
URL:https://www.theellescollective.org/event/8000/
ATTACH;FMTTYPE=image/png:https://www.theellescollective.org/wp-content/uploads/2025/12/Cocktail-party.png
END:VEVENT
END:VCALENDAR