BEGIN:VCALENDAR
VERSION:2.0
PRODID:-//The Elles Collective - ECPv6.15.20//NONSGML v1.0//EN
CALSCALE:GREGORIAN
METHOD:PUBLISH
X-WR-CALNAME:The Elles Collective
X-ORIGINAL-URL:https://www.theellescollective.org
X-WR-CALDESC:Events for The Elles Collective
REFRESH-INTERVAL;VALUE=DURATION:PT1H
X-Robots-Tag:noindex
X-PUBLISHED-TTL:PT1H
BEGIN:VTIMEZONE
TZID:America/Los_Angeles
BEGIN:DAYLIGHT
TZOFFSETFROM:-0800
TZOFFSETTO:-0700
TZNAME:PDT
DTSTART:20250309T100000
END:DAYLIGHT
BEGIN:STANDARD
TZOFFSETFROM:-0700
TZOFFSETTO:-0800
TZNAME:PST
DTSTART:20251102T090000
END:STANDARD
BEGIN:DAYLIGHT
TZOFFSETFROM:-0800
TZOFFSETTO:-0700
TZNAME:PDT
DTSTART:20260308T100000
END:DAYLIGHT
BEGIN:STANDARD
TZOFFSETFROM:-0700
TZOFFSETTO:-0800
TZNAME:PST
DTSTART:20261101T090000
END:STANDARD
BEGIN:DAYLIGHT
TZOFFSETFROM:-0800
TZOFFSETTO:-0700
TZNAME:PDT
DTSTART:20270314T100000
END:DAYLIGHT
BEGIN:STANDARD
TZOFFSETFROM:-0700
TZOFFSETTO:-0800
TZNAME:PST
DTSTART:20271107T090000
END:STANDARD
END:VTIMEZONE
BEGIN:VTIMEZONE
TZID:America/New_York
BEGIN:DAYLIGHT
TZOFFSETFROM:-0500
TZOFFSETTO:-0400
TZNAME:EDT
DTSTART:20250309T070000
END:DAYLIGHT
BEGIN:STANDARD
TZOFFSETFROM:-0400
TZOFFSETTO:-0500
TZNAME:EST
DTSTART:20251102T060000
END:STANDARD
BEGIN:DAYLIGHT
TZOFFSETFROM:-0500
TZOFFSETTO:-0400
TZNAME:EDT
DTSTART:20260308T070000
END:DAYLIGHT
BEGIN:STANDARD
TZOFFSETFROM:-0400
TZOFFSETTO:-0500
TZNAME:EST
DTSTART:20261101T060000
END:STANDARD
BEGIN:DAYLIGHT
TZOFFSETFROM:-0500
TZOFFSETTO:-0400
TZNAME:EDT
DTSTART:20270314T070000
END:DAYLIGHT
BEGIN:STANDARD
TZOFFSETFROM:-0400
TZOFFSETTO:-0500
TZNAME:EST
DTSTART:20271107T060000
END:STANDARD
END:VTIMEZONE
BEGIN:VTIMEZONE
TZID:America/Denver
BEGIN:DAYLIGHT
TZOFFSETFROM:-0700
TZOFFSETTO:-0600
TZNAME:MDT
DTSTART:20250309T090000
END:DAYLIGHT
BEGIN:STANDARD
TZOFFSETFROM:-0600
TZOFFSETTO:-0700
TZNAME:MST
DTSTART:20251102T080000
END:STANDARD
BEGIN:DAYLIGHT
TZOFFSETFROM:-0700
TZOFFSETTO:-0600
TZNAME:MDT
DTSTART:20260308T090000
END:DAYLIGHT
BEGIN:STANDARD
TZOFFSETFROM:-0600
TZOFFSETTO:-0700
TZNAME:MST
DTSTART:20261101T080000
END:STANDARD
BEGIN:DAYLIGHT
TZOFFSETFROM:-0700
TZOFFSETTO:-0600
TZNAME:MDT
DTSTART:20270314T090000
END:DAYLIGHT
BEGIN:STANDARD
TZOFFSETFROM:-0600
TZOFFSETTO:-0700
TZNAME:MST
DTSTART:20271107T080000
END:STANDARD
END:VTIMEZONE
BEGIN:VEVENT
DTSTART;TZID=America/Los_Angeles:20260201T143000
DTEND;TZID=America/Los_Angeles:20260201T170000
DTSTAMP:20260422T182308
CREATED:20260105T095024Z
LAST-MODIFIED:20260109T013827Z
UID:10000060-1769956200-1769965200@www.theellescollective.org
SUMMARY:Meet the Elles San Diego – Booster Walk
DESCRIPTION:Meet the Elles San Diego – Booster Walk \nEt si on boostait nos projets en marchant ? \nRejoins-nous pour un moment unique qui combine networking\, inspiration et mouvement. \nLe concept : \n\nOn part marcher ensemble dans un cadre agréable.\nEn petits groupes\, pour parler librement dans un espace bienveillant et pour avancer ensemble dans nos projets\, trouver des idées\, du soutien et des perspectives nouvelles.\nToutes les 10–15 minutes\, on change de groupe pour multiplier les échanges.\nOn termine avec un rapide débrief collectif pour repartir boostée d’idées et d’énergie !\n\nUn format différent\, qui permet de respirer\, de s’aérer l’esprit et de créer des connexions authentiques en toute simplicité. \nRDV au Penasquitos Canyon West Entrance – 4831 Sorrento Valley Blvd\, San Diego\, CA 92121\, United States \nViens avec ton énergie\, tes baskets et ton projet à partager ! \nNouvelle ? Tu n’as encore jamais assisté à l’une de nos rencontres ? Tu peux venir une fois en tant qu’invitée. \nInscris-toi vite !
URL:https://www.theellescollective.org/event/meet-the-elles-san-diego-booster-walk-3/
ATTACH;FMTTYPE=image/png:https://www.theellescollective.org/wp-content/uploads/2026/01/Meet-the-Elles-SD-BOOSTER-WALK-JANV-26-1.png
END:VEVENT
BEGIN:VEVENT
DTSTART;TZID=America/Los_Angeles:20260210T091500
DTEND;TZID=America/Los_Angeles:20260210T103000
DTSTAMP:20260422T182308
CREATED:20260113T202042Z
LAST-MODIFIED:20260202T163913Z
UID:10000064-1770714900-1770719400@www.theellescollective.org
SUMMARY:Café Virtu’Elles Février 2026
DESCRIPTION:Rejoins-nous pour notre café Virtu’Elles\, événement networking 100% dédié aux femmes francophones actives ou entrepreneures aux États-Unis ! \nNous nous rencontrerons\, nous échangerons\, nous réseauterons pour développer notre réseau professionnel\, partager des expériences\, trouver de l’entraide en toute bienveillance. \nC’est aussi l’opportunité de présenter son business ou son projet\, pour une de nos membres\, qui souhaite entrainer son pitch et recevoir du feedback ! \nSi tu es membre et que tu souhaites être notre invitée focus* pour un de nos cafés\, inscris-toi ici => https://www.signupgenius.com/go/10C094FA8AC23ABFBC52-61207216-focus#/ \nNouvelle ? Découvre notre réseau gratuitement lors de ta première participation ! \nInscris-toi vite ! \n(Inscription obligatoire) \nLe lien zoom de l’évènement se trouve dans l’email de confirmation une fois inscrite. \n  \n*Qu’est-ce que l’invitée focus ?  \nLors de nos Cafés\, une membre peut être “invitée focus”.Cela signifie faire une présentation un peu plus approfondie\, avec quelques slides\, pour partager ton parcours\, ton activité et ce que tu proposes. \nC’est une belle opportunité pour : \n\nt’entraîner à pitcher\,\nrecevoir du feedback si ton message n’est pas encore clair\,\npermettre au groupe de mieux comprendre ce que tu fais.\n\nPlus nous nous connaissons\, mieux nous pouvons réseauter\, parler les unes des autres et créer des connexions parfois indirectes mais toujours précieuses. \nCette possibilité est réservée uniquement aux membres : une invitée qui participe pour la première fois au Café ne peut pas être “invitée focus”.
URL:https://www.theellescollective.org/event/cafe-virtuelles-fevrier-2026/
ATTACH;FMTTYPE=image/png:https://www.theellescollective.org/wp-content/uploads/2026/01/cafe-virtuelles-janvier-26.png
LOCATION:https://us06web.zoom.us/j/88229848330
END:VEVENT
BEGIN:VEVENT
DTSTART;TZID=America/Los_Angeles:20260212T100000
DTEND;TZID=America/Los_Angeles:20260212T120000
DTSTAMP:20260422T182308
CREATED:20260127T172348Z
LAST-MODIFIED:20260127T220150Z
UID:10000065-1770890400-1770897600@www.theellescollective.org
SUMMARY:Meet the Elles Los Angeles
DESCRIPTION:Meet the Elles – Los Angeles\nVenez rencontrer l’une de nos membres devenue céramiste de talent\, Manuela Dalle. \nManuela nous ouvrira les portes de son atelier\, au cœur d’Hollywood\, et partagera avec nous son parcours inspirant : de la production de documentaires à la céramique\, une reconversion guidée par la passion et la créativité. \nUn moment privilégié pour découvrir son univers\, échanger autour de son cheminement professionnel et se laisser inspirer. \n👉 Découvrir son travail : https://manueladalle.com/ \n🕙 Rendez-vous à 10h précises📍 Adresse exacte communiquée la veille de l’événement aux inscrites \n  \nPremière participation ?Tu es la bienvenue une fois en tant qu’invitée pour découvrir l’esprit du collectif. \nInscription obligatoire
URL:https://www.theellescollective.org/event/meet-the-elles-los-angeles-manuela-dalle/
ATTACH;FMTTYPE=image/png:https://www.theellescollective.org/wp-content/uploads/2026/01/Meet-the-Elles-la-fevrier-2026-2.png
END:VEVENT
BEGIN:VEVENT
DTSTART;TZID=America/Los_Angeles:20260217T120000
DTEND;TZID=America/Los_Angeles:20260217T140000
DTSTAMP:20260422T182308
CREATED:20260212T004610Z
LAST-MODIFIED:20260212T004610Z
UID:10000072-1771329600-1771336800@www.theellescollective.org
SUMMARY:Meet the Elles San Diego
DESCRIPTION:Meet the Elles – San Diego \nUn moment privilégié pour se retrouver entre femmes entrepreneures et porteuses de projets\, dans un cadre bienveillant et stimulant. \nAu programme : \nRencontres et échanges authentiquesPartage d’expériences\, de défis et de réussitesConversations riches et inspirantesIntelligence collective pour débloquer vos problématiques et avancer plus vite \nChaque Meet the Elles est pensé comme une parenthèse ressourçante : un espace où l’on peut parler business en toute transparence\, poser ses questions\, partager ses doutes comme ses ambitions\, et repartir plus alignée\, plus claire\, plus boostée. \nUn rendez-vous pour créer des connexions sincères\, élargir son réseau\, nourrir ses idées et renforcer son élan entrepreneurial\, dans une ambiance chaleureuse et conviviale. \nPremière participation ?Vous êtes la bienvenue une fois en tant qu’invitée afin de découvrir l’esprit du collectif. \nInscription obligatoire
URL:https://www.theellescollective.org/event/meet-the-elles-san-diego-4/
ATTACH;FMTTYPE=image/png:https://www.theellescollective.org/wp-content/uploads/2026/02/Meet-the-Elles-SAN-DIEGO-FEV-2026.png
END:VEVENT
BEGIN:VEVENT
DTSTART;TZID=America/Los_Angeles:20260219T091500
DTEND;TZID=America/Los_Angeles:20260219T111500
DTSTAMP:20260422T182308
CREATED:20260203T180239Z
LAST-MODIFIED:20260203T181740Z
UID:10000066-1771492500-1771499700@www.theellescollective.org
SUMMARY:Meet the Elles Los Angeles - Booster Walk
DESCRIPTION:Meet the Elles Los Angeles – Booster Walk\nEt si on boostait nos projets… en marchant ? \nRejoins-nous pour un moment unique qui combine networking\, inspiration et mouvement\, au cœur des collines de Tarzana. \nUne hike qui fait travailler le corps… et l’espritLa montée est rude.Ça grimpe\, ça descend\, ça challenge… mais la vue au sommet est incroyable et la satisfaction d’y arriver est garantie ! \nLe concept\n\nOn part marcher ensemble dans un cadre naturel et inspirant\nEn petits groupes\, chacune partage son projet\, ses défis ou ses objectifs\nToutes les 10 à 15 minutes\, on change de groupe pour multiplier les échanges et les connexions\nOn termine par un débrief collectif rapide pour repartir boostée d’idées\, de clarté et d’énergie\n\nUn format différent pour prendre de la hauteur\, s’aérer l’esprit et créer des connexions authentiques\, simplement. \nÉchange fil rougeQuelles routines business saines pour 2026 ?Comment les mettre en place concrètement et durablement ? \n📍 Lieu du rendez-vous 4047 Reseda Blvd\, Tarzana\, CA 91356 \n👟 Viens avec tes baskets\, ton énergie… et ton projet à partager ! \nNouvelle ?Tu n’as encore jamais assisté à l’une de nos rencontres ?Tu peux venir une fois en tant qu’invitée pour découvrir l’esprit du collectif. \nInscris-toi vite ! \nInscription obligatoire
URL:https://www.theellescollective.org/event/meet-the-elles-los-angeles-booster-walk-4/
ATTACH;FMTTYPE=image/png:https://www.theellescollective.org/wp-content/uploads/2026/02/Meet-the-Elles-LA-BOOSTER-WALK-FEB-26-1.png
END:VEVENT
BEGIN:VEVENT
DTSTART;TZID=America/New_York:20260223T113000
DTEND;TZID=America/New_York:20260223T130000
DTSTAMP:20260422T182308
CREATED:20260210T190155Z
LAST-MODIFIED:20260217T170935Z
UID:10000070-1771846200-1771851600@www.theellescollective.org
SUMMARY:Meet the Elles Online
DESCRIPTION:Meet the Elles Online\nUn moment d’échange et de connexion\, où que vous soyez. \nLes Meet the Elles Online sont des rendez-vous pour se retrouver virtuellement\, échanger autour de nos projets\, de nos défis du moment\, et repartir avec des idées\, du soutien et de l’énergie. \nUn espace sécurisé et chaleureux pour prendre du recul\, se sentir moins seule dans son business et avancer ensemble. \nThème du jour : Quels outils d’IA peuvent m’aider dans mes tâches ? \n\nest-ce que vous utilisez déjà l’IA et laquelle ?\nquelles sont les tâches qui vous prennent trop de temps et que vous voudriez déléguer ?\nbrainstorming sur les solutions qui existent pour vous guider sur les plus adaptées à votre cas.\nexperts qui peuvent vous aider à choisir\nQ&A\n\nQue tu sois entrepreneure\, femme active ou en transition\, ce rendez-vous est fait pour toi.La seule condition : être francophone et avoir un lien professionnel\, de près ou de loin\, avec les États-Unis. \n🕒 Attention aux fuseaux horaires \n\n11h30 EST\n8h30 PT\n17h30 en France\n\nNouvelle ? \nTa première participation est gratuite et sans engagement.C’est l’occasion idéale de faire connaissance avec la communauté\, de comprendre son fonctionnement et de créer tes premières connexions. \nInscription obligatoire
URL:https://www.theellescollective.org/event/meet-the-elles-online-3/
ATTACH;FMTTYPE=image/png:https://www.theellescollective.org/wp-content/uploads/2026/02/meet-the-elles-online-fevrier-2026-2.png
LOCATION:https://us06web.zoom.us/j/87600175183
END:VEVENT
BEGIN:VEVENT
DTSTART;TZID=America/Los_Angeles:20260225T093000
DTEND;TZID=America/Los_Angeles:20260225T113000
DTSTAMP:20260422T182308
CREATED:20260206T203120Z
LAST-MODIFIED:20260206T203120Z
UID:10000067-1772011800-1772019000@www.theellescollective.org
SUMMARY:Meet the Elles Orange County
DESCRIPTION:Meet the Elles – Orange County\nLes Meet the Elles – Orange County sont des rendez-vous mensuels pensés pour les femmes francophones entrepreneures et actives qui souhaitent prendre du recul\, avancer concrètement et repartir reboostées. \nChaque rencontre s’articule autour de deux temps forts complémentaires : \n1. Un thème business ou un mini-workshopChaque mois\, un sujet différent lié à l’entrepreneuriat\, au développement professionnel ou au mindset (stratégie\, visibilité\, organisation\, confiance\, outils\, équilibre pro/perso…).L’objectif : repartir avec des clés concrètes\, applicables immédiatement. \n2. Un temps d’échanges et de co-réflexionUn espace bienveillant pour partager ses problématiques\, poser ses questions\, échanger des idées et bénéficier de l’intelligence collective du groupe.Ici\, on parle vrai\, on se soutient\, on avance ensemble. \nPourquoi participer ? \n\nClarifier ses priorités\nDébloquer une situation\nPrendre confiance\nCréer du lien avec d’autres femmes qui vivent les mêmes défis\nRepartir énergisée\, inspirée et alignée\n\nLes Meet the Elles ne sont pas de simples événements de networking : ce sont des bulles de respiration et d’élan\, où chacune peut se sentir écoutée\, soutenue et encouragée à passer à l’action. \n👉 Première participation ?Tu peux découvrir l’esprit du collectif une fois en tant qu’invitée.
URL:https://www.theellescollective.org/event/meet-the-elles-orange-county-5/
ATTACH;FMTTYPE=image/png:https://www.theellescollective.org/wp-content/uploads/2026/02/Meet-the-Elles-OC-fevrier-26-1.png
END:VEVENT
BEGIN:VEVENT
DTSTART;TZID=America/Los_Angeles:20260226T093000
DTEND;TZID=America/Los_Angeles:20260226T110000
DTSTAMP:20260422T182308
CREATED:20260206T211404Z
LAST-MODIFIED:20260219T194445Z
UID:10000068-1772098200-1772103600@www.theellescollective.org
SUMMARY:Meet The Elles San Francisco
DESCRIPTION:Meet the Elles – San Francisco\nThème du mois : Pitch\, ventes & parcours client \nLes Meet the Elles – San Francisco sont des rendez-vous mensuels dédiés aux femmes francophones entrepreneures et actives qui souhaitent prendre du recul\, monter en compétences et avancer concrètement dans leur activité. \nChaque rencontre est pensée comme un espace structurant\, stimulant et bienveillant\, articulé autour de deux temps forts : \n1. Focus business – Pitch\, ventes & parcours clientCe mois-ci\, nous travaillerons sur des sujets clés pour développer son activité : \n\nclarifier son pitch et son message\nmieux comprendre et optimiser son parcours client\nidentifier les points de friction dans la vente\ngagner en impact\, en fluidité et en confiance\n\nL’objectif : mieux se présenter\, mieux vendre\, sans se sur-vendre\, et repartir avec des pistes d’action concrètes. \n2. Échanges & intelligence collectiveUn temps d’échanges ouverts pour partager ses problématiques\, ses blocages et ses expériences.Grâce au regard du groupe\, chacune bénéficie de retours constructifs\, d’idées nouvelles et de solutions adaptées à sa réalité. \nPourquoi participer ? \n\nClarifier son positionnement\nDébloquer sa communication commerciale\nAméliorer son expérience client\nPrendre confiance dans la vente\nRepartir reboostée\, alignée et prête à passer à l’action\n\nLes Meet the Elles sont bien plus que du networking : ce sont des moments de respiration stratégique\, où l’on repart avec de la clarté\, de l’énergie et une vraie sensation d’avancer. \n👉 Première participation ?Tu es la bienvenue une fois en tant qu’invitée pour découvrir l’esprit du collectif. \nInscription obligatoire \nL’adresse exacte du lieu de RDV sera envoyée par email aux inscrites la veille de l’événement.
URL:https://www.theellescollective.org/event/meet-the-elles-san-francisco-6/
ATTACH;FMTTYPE=image/png:https://www.theellescollective.org/wp-content/uploads/2026/02/Meet-the-Elles-sf-FEV-2026-1.png
END:VEVENT
BEGIN:VEVENT
DTSTART;TZID=America/Denver:20260226T183000
DTEND;TZID=America/Denver:20260226T200000
DTSTAMP:20260422T182308
CREATED:20260210T180642Z
LAST-MODIFIED:20260210T180642Z
UID:10000069-1772130600-1772136000@www.theellescollective.org
SUMMARY:Meet the Elles Denver
DESCRIPTION:Un afterwork pour réseauter\, échanger… et apprendre à mieux se vendre\, sans se survendre ! \nLors de cette édition de Meet the Elles Denver\, on se retrouve en fin de journée pour un moment convivial mêlant networking\, partages d’expériences et échanges concrets entre businesswomen. \nLe thème du jour : Savoir se vendre\nPitcher son projet\, son activité ou son offre en quelques secondes\, ce n’est pas toujours évident.Ensemble\, on travaillera sur : \n\nle pitch en 30 secondes : clair\, impactant\, mémorablele\npitch en 2 minutes : pour aller un peu plus loin et créer une vraie connexion\n\nL’objectif n’est pas la performance\, mais la justesse : trouver les bons mots pour parler de ce que l’on fait\, avec authenticité et confiance. \nUn moment pour prendre confiance\, ajuster son discours\, rencontrer d’autres femmes inspirantes et repartir avec plus de clarté… et d’assurance. \n\nNouvelle ? Tu peux venir une première fois en tant qu’invitée pour découvrir l’esprit du collectif. \n\nInscription obligatoire
URL:https://www.theellescollective.org/event/meet-the-elles-denver-afterwork-savoir-se-vendre-pitch/
ATTACH;FMTTYPE=image/png:https://www.theellescollective.org/wp-content/uploads/2026/02/Meet-the-Elles-DENVER-FEVRIER-2026.png
END:VEVENT
BEGIN:VEVENT
DTSTART;TZID=America/Los_Angeles:20260228T103000
DTEND;TZID=America/Los_Angeles:20260228T120000
DTSTAMP:20260422T182308
CREATED:20260225T173635Z
LAST-MODIFIED:20260225T230502Z
UID:10000079-1772274600-1772280000@www.theellescollective.org
SUMMARY:Intimate conversation this Saturday with mezzo-soprano Julie Boulianne in San Diego
DESCRIPTION:Intimate Conversation this Saturday with mezzo-soprano Julie Boulianne – San Diego \nNous aurons le plaisir d’organiser une conversation intimiste avec la mezzo-soprano Julie Boulianne ce samedi à San Diego\, à l’occasion de sa venue pour son concert. \nUn moment privilégié pour échanger avec une artiste internationale\, découvrir son parcours\, les coulisses de sa carrière et son univers musical\, dans un cadre chaleureux et confidentiel. \nLes places sont limitées.Si vous êtes intéressés\, merci de nous contacter : contact@theellescollective.org
URL:https://www.theellescollective.org/event/intimate-conversation-this-saturday-with-mezzo-soprano-julie-boulianne/
ATTACH;FMTTYPE=image/png:https://www.theellescollective.org/wp-content/uploads/2026/02/Meet-the-Elles-JULIE-BOULIANNE-1.png
END:VEVENT
END:VCALENDAR