BEGIN:VCALENDAR
VERSION:2.0
PRODID:-//The Elles Collective - ECPv6.15.20//NONSGML v1.0//EN
CALSCALE:GREGORIAN
METHOD:PUBLISH
X-WR-CALNAME:The Elles Collective
X-ORIGINAL-URL:https://www.theellescollective.org
X-WR-CALDESC:Events for The Elles Collective
REFRESH-INTERVAL;VALUE=DURATION:PT1H
X-Robots-Tag:noindex
X-PUBLISHED-TTL:PT1H
BEGIN:VTIMEZONE
TZID:America/Los_Angeles
BEGIN:DAYLIGHT
TZOFFSETFROM:-0800
TZOFFSETTO:-0700
TZNAME:PDT
DTSTART:20250309T100000
END:DAYLIGHT
BEGIN:STANDARD
TZOFFSETFROM:-0700
TZOFFSETTO:-0800
TZNAME:PST
DTSTART:20251102T090000
END:STANDARD
BEGIN:DAYLIGHT
TZOFFSETFROM:-0800
TZOFFSETTO:-0700
TZNAME:PDT
DTSTART:20260308T100000
END:DAYLIGHT
BEGIN:STANDARD
TZOFFSETFROM:-0700
TZOFFSETTO:-0800
TZNAME:PST
DTSTART:20261101T090000
END:STANDARD
BEGIN:DAYLIGHT
TZOFFSETFROM:-0800
TZOFFSETTO:-0700
TZNAME:PDT
DTSTART:20270314T100000
END:DAYLIGHT
BEGIN:STANDARD
TZOFFSETFROM:-0700
TZOFFSETTO:-0800
TZNAME:PST
DTSTART:20271107T090000
END:STANDARD
END:VTIMEZONE
BEGIN:VTIMEZONE
TZID:America/New_York
BEGIN:DAYLIGHT
TZOFFSETFROM:-0500
TZOFFSETTO:-0400
TZNAME:EDT
DTSTART:20250309T070000
END:DAYLIGHT
BEGIN:STANDARD
TZOFFSETFROM:-0400
TZOFFSETTO:-0500
TZNAME:EST
DTSTART:20251102T060000
END:STANDARD
BEGIN:DAYLIGHT
TZOFFSETFROM:-0500
TZOFFSETTO:-0400
TZNAME:EDT
DTSTART:20260308T070000
END:DAYLIGHT
BEGIN:STANDARD
TZOFFSETFROM:-0400
TZOFFSETTO:-0500
TZNAME:EST
DTSTART:20261101T060000
END:STANDARD
BEGIN:DAYLIGHT
TZOFFSETFROM:-0500
TZOFFSETTO:-0400
TZNAME:EDT
DTSTART:20270314T070000
END:DAYLIGHT
BEGIN:STANDARD
TZOFFSETFROM:-0400
TZOFFSETTO:-0500
TZNAME:EST
DTSTART:20271107T060000
END:STANDARD
END:VTIMEZONE
BEGIN:VTIMEZONE
TZID:America/Denver
BEGIN:DAYLIGHT
TZOFFSETFROM:-0700
TZOFFSETTO:-0600
TZNAME:MDT
DTSTART:20250309T090000
END:DAYLIGHT
BEGIN:STANDARD
TZOFFSETFROM:-0600
TZOFFSETTO:-0700
TZNAME:MST
DTSTART:20251102T080000
END:STANDARD
BEGIN:DAYLIGHT
TZOFFSETFROM:-0700
TZOFFSETTO:-0600
TZNAME:MDT
DTSTART:20260308T090000
END:DAYLIGHT
BEGIN:STANDARD
TZOFFSETFROM:-0600
TZOFFSETTO:-0700
TZNAME:MST
DTSTART:20261101T080000
END:STANDARD
BEGIN:DAYLIGHT
TZOFFSETFROM:-0700
TZOFFSETTO:-0600
TZNAME:MDT
DTSTART:20270314T090000
END:DAYLIGHT
BEGIN:STANDARD
TZOFFSETFROM:-0600
TZOFFSETTO:-0700
TZNAME:MST
DTSTART:20271107T080000
END:STANDARD
END:VTIMEZONE
BEGIN:VEVENT
DTSTART;TZID=America/Los_Angeles:20260501T113000
DTEND;TZID=America/Los_Angeles:20260501T143000
DTSTAMP:20260422T152308
CREATED:20260415T180552Z
LAST-MODIFIED:20260417T171053Z
UID:10000116-1777635000-1777645800@www.theellescollective.org
SUMMARY:Meet the Elles Los Angeles | Le maquillage qui te ressemble : les do’s & don’ts pour être à ton avantage et rayonner en confiance avec Joséphine Bouchereau
DESCRIPTION:Meet the Elles – Los Angeles  \n💄 Le maquillage qui te ressemble : les do’s & don’ts pour être à ton avantage et rayonner en confiance \nNotre Meet the Elles de mai vous réserve un joli moment entre femmes\, autour d’un atelier inspirant et pratique. \nNous aurons le plaisir d’accueillir Joséphine Bouchereau\, makeup artist française basée à Los Angeles\, récompensée en 2025 par le Guild Award for Best Contemporary Makeup pour son travail sur Emily in Paris. \nPendant cet atelier d’une heure\, Joséphine mettra en lumière les points essentiels sur lesquels travailler\, avec des conseils simples\, adaptés à tous les âges et tous les types de peau.Elle réalisera une démonstration en expliquant chaque geste\, puis vous pourrez reproduire les techniques sur vous-même\, accompagnée de ses conseils personnalisés. \n👉 Si vous souhaitez pratiquer : pensez à apporter votre trousse de maquillage et vos pinceaux\, et venez idéalement non maquillée. \n“L’idée est de parler en toute liberté de ses qualités et défauts afin de comprendre et de mettre en application les conseils pour se sublimer\, se sentir bien et à l’aise avec le maquillage.” \n📍 Cynthia Hajjar nous accueillera à Beverly Hills pour cet atelier\, suivi d’un lunch convivial.L’adresse exacte vous sera communiquée la veille de l’événement après inscription. \n⚠️ Places limitées à 20 participantes \n📅 Date : Vendredi 1er mai🕦 Horaire : 11h30 – 14h30💳 Tarif : Gratuit pour les membres / 20$ pour les non-membres \nInscription obligatoire
URL:https://www.theellescollective.org/event/meet-the-elles-los-angeles-le-maquillage-qui-te-ressemble-les-dos-donts-pour-etre-a-ton-avantage-et-rayonner-en-confiance-avec-josephine-bouchereau/
ATTACH;FMTTYPE=image/jpeg:https://www.theellescollective.org/wp-content/uploads/2026/04/Meet-the-Elles-LA-MAI-2026-2.jpg
END:VEVENT
BEGIN:VEVENT
DTSTART;TZID=America/New_York:20260504T113000
DTEND;TZID=America/New_York:20260504T133000
DTSTAMP:20260422T152308
CREATED:20260410T172955Z
LAST-MODIFIED:20260410T172955Z
UID:10000110-1777894200-1777901400@www.theellescollective.org
SUMMARY:Virtual Accountable Coworking Session – Members only
DESCRIPTION:Tous les 1er et 3e lundis du moisBesoin de motivation\, d’un cadre\, ou simplement de ne pas rester seule derrière ton écran ?Rejoins notre session virtuelle de coworking ! \nLe principe :– On se connecte toutes à l’heure précise pour un démarrage collectif : on se dit bonjour\, on partage sa to-do list du jour\, et on définit ses priorités.– Puis\, place au focus ! Chacune travaille de son côté\, caméra allumée ou non\, dans une atmosphère calme et motivante.– Pas de nouvelles connexions après le démarrage\, pour préserver la concentration. \nOn termine par un petit check-out pour célébrer nos avancées et se féliciter. \nUn rendez-vous bienveillant et productif pour avancer ensemble\, tout en cassant la solitude. \n 11h30 AM à 1:30 PM Eastern Time – 08h30 à 10h30 Pacific TimeRéservé aux membres The Elles CollectiveEn ligne\, lien Zoom envoyé après inscription \nInscris-toi !
URL:https://www.theellescollective.org/event/virtual-accountable-coworking-session-members-only-6/
ATTACH;FMTTYPE=image/jpeg:https://www.theellescollective.org/wp-content/uploads/2026/04/Virtual-Coworking-Session-04-mai.jpg
LOCATION:https://us06web.zoom.us/j/88080797824
END:VEVENT
BEGIN:VEVENT
DTSTART;TZID=America/Los_Angeles:20260507T170000
DTEND;TZID=America/Los_Angeles:20260507T190000
DTSTAMP:20260422T152308
CREATED:20260414T163727Z
LAST-MODIFIED:20260420T173631Z
UID:10000114-1778173200-1778180400@www.theellescollective.org
SUMMARY:Red-light therapy sauna & soundbath with Karma Wellness
DESCRIPTION:Treat yourself while supporting a meaningful cause 🇫🇷🇺🇸 \nAs part of our Donnons des Ailes / Elevate the Elles campaign\, immerse yourself in a unique wellness experience at Karma Wellness Healing Center. \nThis dedicated space offers a holistic\, science-backed approach to well-being\, blending modern therapies with natural healing practices. From red light therapy and cold immersion to Himalayan salt and mineral treatments\, each room is designed to reduce stress\, support recovery\, and restore balance in the body. \nA true invitation to slow down\, reconnect\, and recharge — through a powerful combination of physical\, mental\, and sensory experiences. \n📍 Karma Wellness Healing Center🔗 https://www.karma-wellness.com/healing-center💲 $50  \nTake your ticket here: https://www.zeffy.com/en-US/ticketing/red-light-therapy-sauna-and-soundbath-with-karma-wellness \nBy taking part\, you’re not only caring for yourself… you’re also supporting The Elles Collective and helping give wings to women in our community. \nA rejuvenating experience for both body and soul.
URL:https://www.theellescollective.org/event/9097/
ATTACH;FMTTYPE=image/jpeg:https://www.theellescollective.org/wp-content/uploads/2026/04/Sauna-SD-MAY-4-1.jpg
END:VEVENT
BEGIN:VEVENT
DTSTART;TZID=America/Los_Angeles:20260512T090000
DTEND;TZID=America/Los_Angeles:20260512T100000
DTSTAMP:20260422T152308
CREATED:20260415T190621Z
LAST-MODIFIED:20260415T191258Z
UID:10000117-1778576400-1778580000@www.theellescollective.org
SUMMARY:Live Workshop - Entreprendre aux États-Unis en restant authentique : gérer le stress\, oser se vendre et trouver sa place
DESCRIPTION:Entreprendre aux États-Unis en restant authentique : gérer le stress\, oser se vendre et trouver sa place \nEntreprendre aux États-Unis peut être une opportunité incroyable… mais aussi un vrai défi intérieur. \nComment trouver sa place dans un environnement exigeant\, compétitif et souvent très orienté performance… sans se perdre ni se suradapter ? \nDans cette conférence\, André propose une approche différente : entreprendre en restant profondément alignée avec soi-même. \nAu programme :• Gérer le stress et la pression sans s’épuiser• Oser se vendre avec justesse et authenticité• Trouver sa place sans renier qui l’on est \nUne conférence à la fois concrète et inspirante\, pour celles qui souhaitent réussir… sans se trahir. \nAndré Roberti est coach\, conférencier international et auteur. \nIl a fondé deux académies présentes dans plus de 12 pays : l’une pour former des coachs de vie et l’autre pour aider les métiers de services à mieux communiquer et vendre afin d’obtenir des clients. \nDepuis plus de 7 ans\, il accompagne des centaines d’entrepreneures à développer une activité alignée avec qui elles sont profondément\, en alliant performance et authenticité. \nSon travail repose sur une conviction forte : c’est en étant pleinement soi que l’on crée le plus d’impact. \nInscription obligatoire \nGratuit pour les membres / 20$ pour les guests
URL:https://www.theellescollective.org/event/live-workshop-entreprendre-aux-etats-unis-en-restant-authentique-gerer-le-stress-oser-se-vendre-et-trouver-sa-place/
ATTACH;FMTTYPE=image/jpeg:https://www.theellescollective.org/wp-content/uploads/2026/04/ANDRE-ROBERTI-WORKSHOP-ENTREPRENDRE-AUX-USA.jpg
LOCATION:https://us06web.zoom.us/j/83162633491
END:VEVENT
BEGIN:VEVENT
DTSTART;TZID=America/Denver:20260512T180000
DTEND;TZID=America/Denver:20260512T200000
DTSTAMP:20260422T152308
CREATED:20260421T180035Z
LAST-MODIFIED:20260421T180137Z
UID:10000119-1778608800-1778616000@www.theellescollective.org
SUMMARY:Meet the Elles Denver
DESCRIPTION:Meet the Elles – Denver\nUn moment pour se rencontrer\, échanger et avancer ensemble. \nLe Meet the Elles Denver est un rendez-vous convivial dédié aux femmes francophones entrepreneures\, freelances\, salariées ou en transition professionnelle installées dans le Colorado. \nAu programme : Networking bienveillant Partage d’expériences et de projets Feedback et intelligence collective Connexions authentiques \nQue vous souhaitiez développer votre activité\, élargir votre réseau\, trouver du soutien ou simplement rencontrer d’autres femmes qui partagent la même énergie\, ce moment est pensé pour vous. \nNotre mission ?Créer un espace où chacune peut oser\, partager ses challenges\, célébrer ses réussites et repartir avec plus de clarté et d’élan. \n Nouvelle ?Vous pouvez participer une première fois en tant qu’invitée afin de découvrir l’esprit du collectif. \nNous avons hâte de vous accueillir à Denver et de faire grandir cette belle dynamique locale. \nInscription obligatoire
URL:https://www.theellescollective.org/event/meet-the-elles-denver-4/
ATTACH;FMTTYPE=image/jpeg:https://www.theellescollective.org/wp-content/uploads/2026/04/Meet-the-Elles-DENVER-MAI-2026.jpg
END:VEVENT
BEGIN:VEVENT
DTSTART;TZID=America/Los_Angeles:20260518T113000
DTEND;TZID=America/Los_Angeles:20260518T133000
DTSTAMP:20260422T152308
CREATED:20260410T173239Z
LAST-MODIFIED:20260410T173239Z
UID:10000111-1779103800-1779111000@www.theellescollective.org
SUMMARY:Virtual Accountable Coworking Session – Members only
DESCRIPTION:Tous les 1er et 3e lundis du moisBesoin de motivation\, d’un cadre\, ou simplement de ne pas rester seule derrière ton écran ?Rejoins notre session virtuelle de coworking ! \nLe principe :– On se connecte toutes à l’heure précise pour un démarrage collectif : on se dit bonjour\, on partage sa to-do list du jour\, et on définit ses priorités.– Puis\, place au focus ! Chacune travaille de son côté\, caméra allumée ou non\, dans une atmosphère calme et motivante.– Pas de nouvelles connexions après le démarrage\, pour préserver la concentration. \nOn termine par un petit check-out pour célébrer nos avancées et se féliciter. \nUn rendez-vous bienveillant et productif pour avancer ensemble\, tout en cassant la solitude. \n 11h30 AM à 1:30 PM Eastern Time – 08h30 à 10h30 Pacific TimeRéservé aux membres The Elles CollectiveEn ligne\, lien Zoom envoyé après inscription \nInscris-toi !
URL:https://www.theellescollective.org/event/virtual-accountable-coworking-session-members-only-7/
ATTACH;FMTTYPE=image/jpeg:https://www.theellescollective.org/wp-content/uploads/2026/04/Virtual-Coworking-Session-18-mai.jpg
LOCATION:https://us06web.zoom.us/j/85000447238
END:VEVENT
BEGIN:VEVENT
DTSTART;TZID=America/Los_Angeles:20260520T091500
DTEND;TZID=America/Los_Angeles:20260520T103000
DTSTAMP:20260422T152308
CREATED:20260416T170940Z
LAST-MODIFIED:20260416T170940Z
UID:10000118-1779268500-1779273000@www.theellescollective.org
SUMMARY:Café Virtu’Elles Mai 2026
DESCRIPTION:Rejoins-nous pour notre café Virtu’Elles\, événement networking 100% dédié aux femmes francophones actives ou entrepreneures aux États-Unis ! \nNous nous rencontrerons\, nous échangerons\, nous réseauterons pour développer notre réseau professionnel\, partager des expériences\, trouver de l’entraide en toute bienveillance. \nC’est aussi l’opportunité de présenter son business ou son projet\, pour une de nos membres\, qui souhaite entrainer son pitch et recevoir du feedback ! \nSi tu es membre et que tu souhaites être notre invitée focus* pour un de nos cafés\, inscris-toi ici => https://www.signupgenius.com/go/10C094FA8AC23ABFBC52-61207216-focus#/ \nNouvelle ? Découvre notre réseau gratuitement lors de ta première participation ! \nInscris-toi vite ! \n(Inscription obligatoire) \nLe lien zoom de l’évènement se trouve dans l’email de confirmation une fois inscrite. \n  \n*Qu’est-ce que l’invitée focus ?  \nLors de nos Cafés\, une membre peut être “invitée focus”.Cela signifie faire une présentation un peu plus approfondie\, avec quelques slides\, pour partager ton parcours\, ton activité et ce que tu proposes. \nC’est une belle opportunité pour : \n\nt’entraîner à pitcher\,\nrecevoir du feedback si ton message n’est pas encore clair\,\npermettre au groupe de mieux comprendre ce que tu fais.\n\nPlus nous nous connaissons\, mieux nous pouvons réseauter\, parler les unes des autres et créer des connexions parfois indirectes mais toujours précieuses. \nCette possibilité est réservée uniquement aux membres : une invitée qui participe pour la première fois au Café ne peut pas être “invitée focus”.
URL:https://www.theellescollective.org/event/cafe-virtuelles-mai-2026/
ATTACH;FMTTYPE=image/jpeg:https://www.theellescollective.org/wp-content/uploads/2026/04/cafe-virtuelles-mai-2026.jpg
LOCATION:https://us06web.zoom.us/j/83019540180
END:VEVENT
BEGIN:VEVENT
DTSTART;TZID=America/Los_Angeles:20260520T110000
DTEND;TZID=America/Los_Angeles:20260520T130000
DTSTAMP:20260422T152308
CREATED:20260330T165159Z
LAST-MODIFIED:20260330T170019Z
UID:10000104-1779274800-1779282000@www.theellescollective.org
SUMMARY:FOOD TOUR ART DISTRICT 
DESCRIPTION:FOOD TOUR ART DISTRICT \nArt District : fresques urbaines et plaisirs culinaires \nPartez à la découverte d’Art District lors d’une visite à pied d’environ 2h30 mêlant street art et dégustations dans l’un des quartiers les plus créatifs et vivants de Los Angeles. Ancienne zone industrielle transformée en terrain d’expression artistique\, ce secteur est aujourd’hui un véritable musée à ciel ouvert où galeries contemporaines\, fresques monumentales et rues colorées racontent l’histoire de l’art urbain. \nCharlotte\, votre guide\, vous emmènera à travers les rues animées\, vous dévoilant la signification et l’origine de nombreuses œuvres\, tout en vous faisant plonger dans l’ambiance vibrante du quartier. En chemin\, plusieurs haltes gourmandes sont prévues pour déguster des spécialités locales\, faisant de cette balade une expérience aussi riche pour les yeux que pour les papilles. \nAu fil de la visite\, vous explorerez un mélange unique d’art\, de culture et de gastronomie\, révélant un Art District authentique\, inspirant et incontournable à Los Angeles. \n\nVisite limitée à 8 personnes (minimum requis 5 personnes). Les pourboires ne sont pas inclus et sont les bienvenus.\n\nPour vous inscrire c’est par ici : https://www.zeffy.com/en-US/ticketing/food-tour-art-district
URL:https://www.theellescollective.org/event/food-tour-art-district/
ATTACH;FMTTYPE=image/jpeg:https://www.theellescollective.org/wp-content/uploads/2026/03/Copy-of-EVENT-site-VENICE-off-road.jpg
END:VEVENT
BEGIN:VEVENT
DTSTART;TZID=America/Los_Angeles:20260521T120000
DTEND;TZID=America/Los_Angeles:20260521T140000
DTSTAMP:20260422T152308
CREATED:20260330T212150Z
LAST-MODIFIED:20260330T212150Z
UID:10000106-1779364800-1779372000@www.theellescollective.org
SUMMARY:Meet the Elles San Diego
DESCRIPTION:Meet the Elles – San Diego \nUn moment privilégié pour se retrouver entre femmes entrepreneures et porteuses de projets\, dans un cadre bienveillant et stimulant. \nAu programme : \nRencontres et échanges authentiquesPartage d’expériences\, de défis et de réussitesConversations riches et inspirantesIntelligence collective pour débloquer vos problématiques et avancer plus vite \nChaque Meet the Elles est pensé comme une parenthèse ressourçante : un espace où l’on peut parler business en toute transparence\, poser ses questions\, partager ses doutes comme ses ambitions\, et repartir plus alignée\, plus claire\, plus boostée. \nUn rendez-vous pour créer des connexions sincères\, élargir son réseau\, nourrir ses idées et renforcer son élan entrepreneurial\, dans une ambiance chaleureuse et conviviale. \nPremière participation ?Vous êtes la bienvenue une fois en tant qu’invitée afin de découvrir l’esprit du collectif. \nInscription obligatoire
URL:https://www.theellescollective.org/event/meet-the-elles-san-diego-6/
ATTACH;FMTTYPE=image/jpeg:https://www.theellescollective.org/wp-content/uploads/2026/03/Meet-the-Elles-SD21-MAI.jpg
END:VEVENT
END:VCALENDAR