BEGIN:VCALENDAR
VERSION:2.0
PRODID:-//The Elles Collective - ECPv6.15.20//NONSGML v1.0//EN
CALSCALE:GREGORIAN
METHOD:PUBLISH
X-WR-CALNAME:The Elles Collective
X-ORIGINAL-URL:https://www.theellescollective.org
X-WR-CALDESC:Events for The Elles Collective
REFRESH-INTERVAL;VALUE=DURATION:PT1H
X-Robots-Tag:noindex
X-PUBLISHED-TTL:PT1H
BEGIN:VTIMEZONE
TZID:America/Los_Angeles
BEGIN:DAYLIGHT
TZOFFSETFROM:-0800
TZOFFSETTO:-0700
TZNAME:PDT
DTSTART:20240310T100000
END:DAYLIGHT
BEGIN:STANDARD
TZOFFSETFROM:-0700
TZOFFSETTO:-0800
TZNAME:PST
DTSTART:20241103T090000
END:STANDARD
BEGIN:DAYLIGHT
TZOFFSETFROM:-0800
TZOFFSETTO:-0700
TZNAME:PDT
DTSTART:20250309T100000
END:DAYLIGHT
BEGIN:STANDARD
TZOFFSETFROM:-0700
TZOFFSETTO:-0800
TZNAME:PST
DTSTART:20251102T090000
END:STANDARD
BEGIN:DAYLIGHT
TZOFFSETFROM:-0800
TZOFFSETTO:-0700
TZNAME:PDT
DTSTART:20260308T100000
END:DAYLIGHT
BEGIN:STANDARD
TZOFFSETFROM:-0700
TZOFFSETTO:-0800
TZNAME:PST
DTSTART:20261101T090000
END:STANDARD
END:VTIMEZONE
BEGIN:VEVENT
DTSTART;TZID=America/Los_Angeles:20251106T084500
DTEND;TZID=America/Los_Angeles:20251106T110000
DTSTAMP:20260423T135235
CREATED:20251020T161829Z
LAST-MODIFIED:20251020T162625Z
UID:10000034-1762418700-1762426800@www.theellescollective.org
SUMMARY:Meet the Elles San Diego – Booster Walk
DESCRIPTION:Meet the Elles San Diego – Booster Walk \nEt si on boostait nos projets en marchant ? \nRejoins-nous pour un moment unique qui combine networking\, inspiration et mouvement. \nLe concept : \n\nOn part marcher ensemble dans un cadre agréable.\nEn petits groupes\, le thème de la marche sera « Quelle est ta problématique et comment je peux t’aider »\nToutes les 10–15 minutes\, on change de groupe pour multiplier les échanges.\nOn termine avec un rapide débrief collectif pour repartir boostée d’idées et d’énergie !\n\nUn format différent\, qui permet de respirer\, de s’aérer l’esprit et de créer des connexions authentiques en toute simplicité. \nRDV au Miramar Lake Parking – Miramar Lake Road\, San Diego\, CA 92131 \n\nViens avec ton énergie\, tes baskets et ton projet à partager ! \nNouvelle ? Tu n’as encore jamais assisté à l’une de nos rencontres ? Tu peux venir une fois en tant qu’invitée. \nInscris-toi vite !
URL:https://www.theellescollective.org/event/meet-the-elles-san-diego-booster-walk/
ATTACH;FMTTYPE=image/png:https://www.theellescollective.org/wp-content/uploads/2025/10/Meet-the-Elles-SD-BOOSTER-WALK-NOV-2025.png
END:VEVENT
BEGIN:VEVENT
DTSTART;TZID=America/Los_Angeles:20251106T090000
DTEND;TZID=America/Los_Angeles:20251106T100000
DTSTAMP:20260423T135235
CREATED:20251023T174933Z
LAST-MODIFIED:20251105T181025Z
UID:10000037-1762419600-1762423200@www.theellescollective.org
SUMMARY:Live workshop - Aromathérapie et performance : l’équilibre au quotidien
DESCRIPTION:Rejoignez-nous pour un live workshop apaisant et inspirant\, où nous explorerons ensemble le pouvoir des huiles essentielles pour booster notre bien-être et notre productivité au quotidien. \nLes huiles essentielles sont des composés hautement concentrés extraits de différentes parties de plantes\, comme les fleurs\, les feuilles\, les racines\, ou les écorces. Elles sont réputées pour leurs effets bénéfiques sur la santé et le bien-être. \nGéraldine Surkyn\, certifiée en aromathérapie et architecte d’intérieur chez Geraldine Surkyn Interior Design LLC\, va nous expliquer l’usage des huiles essentielles pour être plus productives.\nLe stress\, les problèmes de sommeil\, la fluctuation du niveau d’énergie\, une mauvaise mémoire\, peu de concentration sont des freins dans nos activités quotidiennes. Les huiles essentielles peuvent nous aider à retrouver un certain équilibre et avoir de l’énergie toute la journée.\n\nUn moment pour respirer\, apprendre et repartir avec des outils simples à intégrer dans ta routine !Gratuit pour les membres\, ouvert aux invitées au tarif de $20.\n\nInscription obligatoire 
URL:https://www.theellescollective.org/event/live-workshop-huiles-essentielles/
CATEGORIES:Workshop Online
ATTACH;FMTTYPE=image/png:https://www.theellescollective.org/wp-content/uploads/2025/10/workshop-HE-GERALDINE.png
LOCATION:https://us06web.zoom.us/j/83656534848
END:VEVENT
END:VCALENDAR