BEGIN:VCALENDAR
VERSION:2.0
PRODID:-//The Elles Collective - ECPv6.15.20//NONSGML v1.0//EN
CALSCALE:GREGORIAN
METHOD:PUBLISH
X-WR-CALNAME:The Elles Collective
X-ORIGINAL-URL:https://www.theellescollective.org
X-WR-CALDESC:Events for The Elles Collective
REFRESH-INTERVAL;VALUE=DURATION:PT1H
X-Robots-Tag:noindex
X-PUBLISHED-TTL:PT1H
BEGIN:VTIMEZONE
TZID:America/Los_Angeles
BEGIN:DAYLIGHT
TZOFFSETFROM:-0800
TZOFFSETTO:-0700
TZNAME:PDT
DTSTART:20240310T100000
END:DAYLIGHT
BEGIN:STANDARD
TZOFFSETFROM:-0700
TZOFFSETTO:-0800
TZNAME:PST
DTSTART:20241103T090000
END:STANDARD
BEGIN:DAYLIGHT
TZOFFSETFROM:-0800
TZOFFSETTO:-0700
TZNAME:PDT
DTSTART:20250309T100000
END:DAYLIGHT
BEGIN:STANDARD
TZOFFSETFROM:-0700
TZOFFSETTO:-0800
TZNAME:PST
DTSTART:20251102T090000
END:STANDARD
BEGIN:DAYLIGHT
TZOFFSETFROM:-0800
TZOFFSETTO:-0700
TZNAME:PDT
DTSTART:20260308T100000
END:DAYLIGHT
BEGIN:STANDARD
TZOFFSETFROM:-0700
TZOFFSETTO:-0800
TZNAME:PST
DTSTART:20261101T090000
END:STANDARD
END:VTIMEZONE
BEGIN:VEVENT
DTSTART;TZID=America/Los_Angeles:20251111T091500
DTEND;TZID=America/Los_Angeles:20251111T103000
DTSTAMP:20260423T135245
CREATED:20251020T181716Z
LAST-MODIFIED:20251020T181934Z
UID:10000035-1762852500-1762857000@www.theellescollective.org
SUMMARY:Café Virtu’Elles
DESCRIPTION:Rejoins-nous pour notre café Virtu’Elles\, évènement networking 100% femmes francophones\, pour les entrepreuneures\, les femmes actives et les porteuses de projet aux États-Unis !  \n \nNous nous rencontrerons\, nous échangerons\, nous réseauterons pour développer notre réseau professionnel\, partager des expériences\, trouver de l’entraide en toute bienveillance.  \n \nC’est aussi l’opportunité de présenter son business ou son projet\, pour une de nos membres\, qui souhaite entainer son pitch et recevoir du feedback !   \nQui se prêtera à l’exercice ce mois-ci ? \nSi tu souhaites être notre invitée focus\, inscris-toi ici => https://www.signupgenius.com/go/10C094FA8AC23ABFBC52-focus \n \nRéservé aux membres de l’association (sauf pour une première participation).Si c’est ta première fois\, envoie-nous un email à contact@theellescollective.org en précisant que tu souhaites participer au Café en tant qu’invitée. Nous t’enverrons alors le lien pour nous rejoindre ! \nPour les membres : inscrivez-vous afin de recevoir directement le lien Zoom.(Inscription obligatoire)
URL:https://www.theellescollective.org/event/cafe-virtuelles-online-francophone/
ATTACH;FMTTYPE=image/png:https://www.theellescollective.org/wp-content/uploads/2025/10/cafe-virtuelles-novembre-2025-3.png
LOCATION:https://us06web.zoom.us/j/89344947649
END:VEVENT
BEGIN:VEVENT
DTSTART;TZID=America/Los_Angeles:20251112T120000
DTEND;TZID=America/Los_Angeles:20251112T130000
DTSTAMP:20260423T135245
CREATED:20250916T182628Z
LAST-MODIFIED:20251111T165911Z
UID:10000024-1762948800-1762952400@www.theellescollective.org
SUMMARY:Live Workshop - Comment se mettre en valeur sur le marché du travail américain ?
DESCRIPTION:Comment se mettre en valeur sur le marché du travail américain ? Quelles démarches concrètes entreprendre et quels codes connaître pour réussir sa recherche d’emploi aux États-Unis ?\nMyriam Le Cannellier abordera également les spécificités entre une première recherche d’emploi aux US et le fait de changer de poste une fois déjà implanté. \nUn atelier concret\, plein de conseils actionnables pour trouver le bon job et comprendre les codes américains. \nA propos de Myriam Le Cannellier :Managing Partner chez Alexandre Hughes USA\, Myriam possède plus de 20 ans d’expérience dans l’accompagnement d’entreprises européennes implantées aux États-Unis. Experte en recrutement de cadres dirigeants (DG\, VP\, Directeurs)\, elle a travaillé avec des sociétés issues de secteurs variés tels que l’industrie\, les sciences de la vie\, le SaaS\, l’emballage ou encore les biens de consommation. \nPolyglotte (français\, anglais\, espagnol)\, diplômée d’ingénieur et de HEC Paris\, elle apporte une vision stratégique et opérationnelle unique du marché américain\, nourrie par un parcours international riche (Argentine\, France\, États-Unis). \nInscription obligatoire pour recevoir le lien Zoom. \nCet événement est gratuit pour les membres de l’association et ouvert aux guests au tarif de $20.
URL:https://www.theellescollective.org/event/emploi-marche-travail-americain/
CATEGORIES:Workshop Online
ATTACH;FMTTYPE=image/png:https://www.theellescollective.org/wp-content/uploads/2025/09/workshop-Myriam.png
LOCATION:https://us06web.zoom.us/j/82079721117
END:VEVENT
BEGIN:VEVENT
DTSTART;TZID=America/Los_Angeles:20251112T190000
DTEND;TZID=America/Los_Angeles:20251112T210000
DTSTAMP:20260423T135245
CREATED:20251006T203249Z
LAST-MODIFIED:20251006T204829Z
UID:10000030-1762974000-1762981200@www.theellescollective.org
SUMMARY:Meet the Elles Los Angeles - Special Guest: Johanna Le Pape
DESCRIPTION:👩‍🍳 Meet the Elles Los Angeles – Special Guest: Johanna Le Pape\nRejoins-nous pour une rencontre inspirante avec Johanna Le Pape\, cheffe pâtissière\, championne du monde des arts sucrés 2014 et fondatrice d’Atelier Auraé.Installée entre Paris et Los Angeles\, Johanna repense la pâtisserie à travers une approche healthy & responsable\, où plaisir\, équilibre et créativité se rencontrent. \nÀ travers son parcours international et son expérience d’entrepreneure\, elle partagera avec nous ses réflexions sur la réussite\, la réinvention et l’art de concilier passion et engagement. \nUne conversation authentique et inspirante\, suivie d’un moment  de networking et d’échange convivial entre Elles. \nInscription obligatoire. \nL’adresse exacte du lieu de rendez-vous sera envoyée la veille de l’événement. \nCet événement est gratuit pour les membres de l’association et ouvert aux guests au tarif de $20. \n  \n\n  \nAbout Johanna Le Pape:\nJohanna Le Pape est une cheffe pâtissière française reconnue internationalement\, passionnée par la création d’une pâtisserie à la fois gourmande\, équilibrée et responsable. Lauréate du Mondial des Arts Sucrés en 2014\, elle s’est imposée comme l’une des figures majeures de la pâtisserie “bien-être”. \nFormée dans les plus belles maisons parisiennes\, notamment au Lutetia et au Meurice\, Johanna a très vite cherché à donner un sens nouveau à son métier. Convaincue que la gourmandise peut rimer avec santé\, elle a développé une approche unique où le goût\, la nutrition et le respect des ingrédients se rejoignent harmonieusement. \nAujourd’hui\, à travers son entreprise Atelier Auraé\, Johanna accompagne des marques\, des écoles et des chefs du monde entier dans leurs projets de création\, d’innovation et de formation. Elle collabore également avec de grandes entreprises du secteur agroalimentaire pour repenser la pâtisserie de demain. \nInstallée entre Paris et Los Angeles\, elle poursuit sa mission : transmettre une vision moderne\, durable et inspirante de la pâtisserie\, qui place l’humain et la nature au cœur du plaisir sucré. \nCheffe engagée\, conférencière et auteure du livre Révolution Pâtisserie*\, Johanna incarne une nouvelle génération de chefs entrepreneurs\, animés par la passion\, la créativité et la conscience. \n\n*This is an affiliate link\, and a portion of your purchase will directly support The Elles Collective\, a nonprofit dedicated to empowering French-speaking women entrepreneurs. By shopping through this link\, you help fund our programs and resources\, allowing more women to succeed in their business ventures. Learn more about our mission at www.theellescollective.org. Thank you for supporting us!.
URL:https://www.theellescollective.org/event/meet-the-elles-los-angeles-special-guest-johanna-le-pape/
CATEGORIES:Workshop en personne
ATTACH;FMTTYPE=image/png:https://www.theellescollective.org/wp-content/uploads/2025/10/meet-the-LA-NOVEMBRE-2025.png
END:VEVENT
END:VCALENDAR