BEGIN:VCALENDAR
VERSION:2.0
PRODID:-//The Elles Collective - ECPv6.15.20//NONSGML v1.0//EN
CALSCALE:GREGORIAN
METHOD:PUBLISH
X-WR-CALNAME:The Elles Collective
X-ORIGINAL-URL:https://www.theellescollective.org
X-WR-CALDESC:Events for The Elles Collective
REFRESH-INTERVAL;VALUE=DURATION:PT1H
X-Robots-Tag:noindex
X-PUBLISHED-TTL:PT1H
BEGIN:VTIMEZONE
TZID:America/Los_Angeles
BEGIN:DAYLIGHT
TZOFFSETFROM:-0800
TZOFFSETTO:-0700
TZNAME:PDT
DTSTART:20240310T100000
END:DAYLIGHT
BEGIN:STANDARD
TZOFFSETFROM:-0700
TZOFFSETTO:-0800
TZNAME:PST
DTSTART:20241103T090000
END:STANDARD
BEGIN:DAYLIGHT
TZOFFSETFROM:-0800
TZOFFSETTO:-0700
TZNAME:PDT
DTSTART:20250309T100000
END:DAYLIGHT
BEGIN:STANDARD
TZOFFSETFROM:-0700
TZOFFSETTO:-0800
TZNAME:PST
DTSTART:20251102T090000
END:STANDARD
BEGIN:DAYLIGHT
TZOFFSETFROM:-0800
TZOFFSETTO:-0700
TZNAME:PDT
DTSTART:20260308T100000
END:DAYLIGHT
BEGIN:STANDARD
TZOFFSETFROM:-0700
TZOFFSETTO:-0800
TZNAME:PST
DTSTART:20261101T090000
END:STANDARD
END:VTIMEZONE
BEGIN:VTIMEZONE
TZID:America/Denver
BEGIN:DAYLIGHT
TZOFFSETFROM:-0700
TZOFFSETTO:-0600
TZNAME:MDT
DTSTART:20240310T090000
END:DAYLIGHT
BEGIN:STANDARD
TZOFFSETFROM:-0600
TZOFFSETTO:-0700
TZNAME:MST
DTSTART:20241103T080000
END:STANDARD
BEGIN:DAYLIGHT
TZOFFSETFROM:-0700
TZOFFSETTO:-0600
TZNAME:MDT
DTSTART:20250309T090000
END:DAYLIGHT
BEGIN:STANDARD
TZOFFSETFROM:-0600
TZOFFSETTO:-0700
TZNAME:MST
DTSTART:20251102T080000
END:STANDARD
BEGIN:DAYLIGHT
TZOFFSETFROM:-0700
TZOFFSETTO:-0600
TZNAME:MDT
DTSTART:20260308T090000
END:DAYLIGHT
BEGIN:STANDARD
TZOFFSETFROM:-0600
TZOFFSETTO:-0700
TZNAME:MST
DTSTART:20261101T080000
END:STANDARD
END:VTIMEZONE
BEGIN:VEVENT
DTSTART;TZID=America/Los_Angeles:20251117T120000
DTEND;TZID=America/Los_Angeles:20251117T133000
DTSTAMP:20260423T083222
CREATED:20251103T191442Z
LAST-MODIFIED:20251103T195639Z
UID:10000039-1763380800-1763386200@www.theellescollective.org
SUMMARY:Meet the Elles San Francisco
DESCRIPTION:Meet the Elles San Francisco\nLe thème de ce mois-ci : Time Management! \nComment mieux gérer son temps\, trouver l’équilibre entre vie pro et perso\, et préserver son énergie au quotidien ? \nPour ce Meet the Elles de novembre\, nous aborderons le Time Management sous un angle à la fois pratique et énergétique\, grâce à deux intervenantes inspirantes : \nCaroline Vigery – Maître Reiki & Clairvoyante : Experte en soins énergétiques\, guidance intuitive et enseignement du Reiki\, Caroline partagera des outils concrets pour écouter son rythme intérieur\, se recentrer et gérer son temps sans s’épuiser. \nFlore Lenoir – Interior Architect & Furniture Designer at Flore Lenoir Studio : À travers son expérience de designer et d’entrepreneure\, Flore nous parlera de la relation entre espace\, créativité et gestion du temps. Comment un environnement bien pensé peut influencer notre efficacité et notre bien-être. \nUn moment d’échanges et de partages entre femmes francophones\, pour repartir inspirée\, alignée et reboostée. \nBring your own lunch!Nous partagerons un moment convivial autour de nos repas tout en échangeant sur nos pratiques et nos défis du quotidien. \n\nPremière participation ? Vous êtes la bienvenue une fois en tant qu’invitée afin de découvrir l’esprit du collectif. \nInscription obligatoire \nL’adresse exacte du lieu de RDV sera envoyée par email la veille de l’événement.
URL:https://www.theellescollective.org/event/meet-the-elles-san-francisco-4/
ATTACH;FMTTYPE=image/png:https://www.theellescollective.org/wp-content/uploads/2025/11/Meet-the-Elles-sf-novembre-2025.png
END:VEVENT
BEGIN:VEVENT
DTSTART;TZID=America/Denver:20251119T180000
DTEND;TZID=America/Denver:20251119T200000
DTSTAMP:20260423T083222
CREATED:20251031T163145Z
LAST-MODIFIED:20251118T192625Z
UID:10000038-1763575200-1763582400@www.theellescollective.org
SUMMARY:Meet the Elles Denver
DESCRIPTION:Meet the Elles Denver\nDécouvre le réseau The Elles Collective !\nThe Elles Collective se déploie à Denver\, avec déjà plusieurs membres prêtes à faire vivre la communauté locale.Ce premier rendez-vous est une belle occasion de découvrir le réseau\, d’échanger entre femmes francophones et de rejoindre une dynamique fondée sur l’entraide\, le partage et l’inspiration mutuelle. \nQue tu sois entrepreneure\, active\, en reconversion ou simplement curieuse de rencontrer d’autres femmes francophones à Denver\, ce moment est fait pour toi.Viens réseauter\, partager\, et t’inspirer dans une ambiance conviviale et authentique. \nRendez-vous le 19 novembre à 6:00PM ! La Bouche – 1100 E 17th Ave\, Denver\, CO 80218Ouvert à toutes – membres et invitées \nInscription obligatoire 
URL:https://www.theellescollective.org/event/meet-the-elles-denver/
ATTACH;FMTTYPE=image/png:https://www.theellescollective.org/wp-content/uploads/2025/10/Meet-the-Elles-DENVER-NOVEMBRE.png
END:VEVENT
BEGIN:VEVENT
DTSTART;TZID=America/Los_Angeles:20251120T083000
DTEND;TZID=America/Los_Angeles:20251120T093000
DTSTAMP:20260423T083222
CREATED:20251023T164958Z
LAST-MODIFIED:20251023T164958Z
UID:10000036-1763627400-1763631000@www.theellescollective.org
SUMMARY:Meet the Elles Online
DESCRIPTION:Le RV Networking Online des Elles dispersées géographiquement mais unies par le même esprit d’entraide entrepreneuriale ! \nSelon ton fuseau horaire\, retrouve nous sur Zoom avec ton café\, sandwich ou apéro préféré pour : \n– 15 min de Tour de table et Partage d’infos / actus des Elles \n– 45 min d’échanges autour des projets et/ou problématiques de chacune \n \nOuvert à toutes les femmes francophones du monde\, ayant un business ou un projet professionnel aux USA. \n \nSi tu es nouvelle\, tu es bienvenue une fois en tant qu’invitée. \n \nÉvénement 100% francophone ! \n \nInscris-toi vite !   \n(Inscription obligatoire) \n \nAttention au fuseau horaire : RDV 8:30am pour la Californie – 11:30am pour la Floride – 17h30 pour la France
URL:https://www.theellescollective.org/event/networking-online-femmes-entrepreneures-actives-usa-2/
ATTACH;FMTTYPE=image/png:https://www.theellescollective.org/wp-content/uploads/2025/10/meet-the-elles-online-novembre-2025.png
END:VEVENT
BEGIN:VEVENT
DTSTART;TZID=America/Los_Angeles:20251120T120000
DTEND;TZID=America/Los_Angeles:20251120T140000
DTSTAMP:20260423T083222
CREATED:20251103T195556Z
LAST-MODIFIED:20251107T193128Z
UID:10000040-1763640000-1763647200@www.theellescollective.org
SUMMARY:Meet the Elles San Diego
DESCRIPTION:Meet the Elles San Diego \nAu programme : \n\nRencontres et échanges bienveillants\nPartage d’expériences et de projets\nProfitez de l’intelligence collective pour avancer plus vite.\n\nUn rendez-vous pensé pour créer des connexions authentiques\, nourrir vos idées et repartir boostée\, entourée de femmes qui partagent la même énergie. \nPremière participation ? Vous êtes la bienvenue une fois en tant qu’invitée afin de découvrir l’esprit du collectif. \nInscription obligatoire
URL:https://www.theellescollective.org/event/meet-the-elles-san-diego-2/
ATTACH;FMTTYPE=image/png:https://www.theellescollective.org/wp-content/uploads/2025/11/Meet-the-Elles-SD-NOVEMBRE-3.png
END:VEVENT
BEGIN:VEVENT
DTSTART;TZID=America/Los_Angeles:20251121T093000
DTEND;TZID=America/Los_Angeles:20251121T113000
DTSTAMP:20260423T083222
CREATED:20251114T162226Z
LAST-MODIFIED:20251114T162337Z
UID:10000047-1763717400-1763724600@www.theellescollective.org
SUMMARY:Meet the Elles Orange County
DESCRIPTION:  \nMeet the Elles Orange County\nUn moment pour échanger\, avancer et s’inspirer. \nViens partager tes wins et tes challenges du moment : \n\nBrainstormer ensemble pour trouver des pistes nouvelles\nSe fixer des objectifs concrets\nÉchanger conseils\, idées et retours d’expérience\n\nUn rendez-vous pensé pour créer des connexions authentiques et repartir avec de l’élan et de la clarté. \n👉 Première participation ? Tu es la bienvenue une fois en tant qu’invitée pour découvrir l’esprit du collectif. \nInscris-toi vite !
URL:https://www.theellescollective.org/event/meet-the-elles-orange-county-3/
ATTACH;FMTTYPE=image/png:https://www.theellescollective.org/wp-content/uploads/2025/11/Meet-the-Elles-OC-novembre-1080-x-1350-px.png
END:VEVENT
END:VCALENDAR