BEGIN:VCALENDAR
VERSION:2.0
PRODID:-//The Elles Collective - ECPv6.15.20//NONSGML v1.0//EN
CALSCALE:GREGORIAN
METHOD:PUBLISH
X-WR-CALNAME:The Elles Collective
X-ORIGINAL-URL:https://www.theellescollective.org
X-WR-CALDESC:Events for The Elles Collective
REFRESH-INTERVAL;VALUE=DURATION:PT1H
X-Robots-Tag:noindex
X-PUBLISHED-TTL:PT1H
BEGIN:VTIMEZONE
TZID:America/Los_Angeles
BEGIN:DAYLIGHT
TZOFFSETFROM:-0800
TZOFFSETTO:-0700
TZNAME:PDT
DTSTART:20240310T100000
END:DAYLIGHT
BEGIN:STANDARD
TZOFFSETFROM:-0700
TZOFFSETTO:-0800
TZNAME:PST
DTSTART:20241103T090000
END:STANDARD
BEGIN:DAYLIGHT
TZOFFSETFROM:-0800
TZOFFSETTO:-0700
TZNAME:PDT
DTSTART:20250309T100000
END:DAYLIGHT
BEGIN:STANDARD
TZOFFSETFROM:-0700
TZOFFSETTO:-0800
TZNAME:PST
DTSTART:20251102T090000
END:STANDARD
BEGIN:DAYLIGHT
TZOFFSETFROM:-0800
TZOFFSETTO:-0700
TZNAME:PDT
DTSTART:20260308T100000
END:DAYLIGHT
BEGIN:STANDARD
TZOFFSETFROM:-0700
TZOFFSETTO:-0800
TZNAME:PST
DTSTART:20261101T090000
END:STANDARD
END:VTIMEZONE
BEGIN:VEVENT
DTSTART;TZID=America/Los_Angeles:20251125T090000
DTEND;TZID=America/Los_Angeles:20251125T120000
DTSTAMP:20260423T013804
CREATED:20251110T202950Z
LAST-MODIFIED:20251110T203719Z
UID:10000043-1764061200-1764072000@www.theellescollective.org
SUMMARY:Virtual Accountable Coworking Session - Members only
DESCRIPTION:Besoin de motivation\, d’un cadre\, ou simplement de ne pas rester seule derrière ton écran ?Rejoins notre session virtuelle de coworking ! \nLe principe :👉 On se connecte toutes à 9h précises pour un démarrage collectif : on se dit bonjour 👋\, on partage sa to-do list du jour\, et on définit ses priorités.👉 Puis\, place au focus ! Chacune travaille de son côté\, caméra allumée ou non\, dans une atmosphère calme et motivante.👉 Tu peux partir quand tu veux si 3h c’est trop long — mais pas de nouvelles connexions après le démarrage\, pour préserver la concentration.👉 On termine par un petit check-out pour célébrer nos avancées et se féliciter \nUn rendez-vous bienveillant et productif pour avancer ensemble\, tout en cassant la solitude. \n🕒 9h à 12h (PT) – Heure de Los AngelesRéservé aux membres The Elles CollectiveEn ligne\, lien Zoom envoyé après inscription \nInscris-toi !
URL:https://www.theellescollective.org/event/virtual-accountable-coworking-session-members-only/
CATEGORIES:Autres
ATTACH;FMTTYPE=image/png:https://www.theellescollective.org/wp-content/uploads/2025/11/Virtual-Accountable-Coworking-Session.png
LOCATION:https://us06web.zoom.us/j/81616546288
END:VEVENT
BEGIN:VEVENT
DTSTART;TZID=America/Los_Angeles:20251126T120000
DTEND;TZID=America/Los_Angeles:20251126T140000
DTSTAMP:20260423T013804
CREATED:20251120T171434Z
LAST-MODIFIED:20251120T171434Z
UID:10000049-1764158400-1764165600@www.theellescollective.org
SUMMARY:Meet the Elles Chicago
DESCRIPTION:Participez à notre Meet the Elles Chicago\, une rencontre dédiée au networking professionnel. \nAu programme : échanges bienveillants\, partage de ressources\, retours d’expérience et opportunités de collaboration.Un moment privilégié pour développer votre réseau et rencontrer d’autres femmes francophones engagées et ambitieuses. \nÀ cette occasion\, vous pourrez également rencontrer Céline Amilien\, présidente de The Elles Collective\, de passage à Chicago. \nOuvert à toutes. \nInscription obligatoire.
URL:https://www.theellescollective.org/event/meet-the-elles-chicago/
ATTACH;FMTTYPE=image/png:https://www.theellescollective.org/wp-content/uploads/2025/11/meet-chicago-nov-2025.png
END:VEVENT
END:VCALENDAR