BEGIN:VCALENDAR
VERSION:2.0
PRODID:-//The Elles Collective - ECPv6.15.20//NONSGML v1.0//EN
CALSCALE:GREGORIAN
METHOD:PUBLISH
X-WR-CALNAME:The Elles Collective
X-ORIGINAL-URL:https://www.theellescollective.org
X-WR-CALDESC:Events for The Elles Collective
REFRESH-INTERVAL;VALUE=DURATION:PT1H
X-Robots-Tag:noindex
X-PUBLISHED-TTL:PT1H
BEGIN:VTIMEZONE
TZID:America/Los_Angeles
BEGIN:DAYLIGHT
TZOFFSETFROM:-0800
TZOFFSETTO:-0700
TZNAME:PDT
DTSTART:20240310T100000
END:DAYLIGHT
BEGIN:STANDARD
TZOFFSETFROM:-0700
TZOFFSETTO:-0800
TZNAME:PST
DTSTART:20241103T090000
END:STANDARD
BEGIN:DAYLIGHT
TZOFFSETFROM:-0800
TZOFFSETTO:-0700
TZNAME:PDT
DTSTART:20250309T100000
END:DAYLIGHT
BEGIN:STANDARD
TZOFFSETFROM:-0700
TZOFFSETTO:-0800
TZNAME:PST
DTSTART:20251102T090000
END:STANDARD
BEGIN:DAYLIGHT
TZOFFSETFROM:-0800
TZOFFSETTO:-0700
TZNAME:PDT
DTSTART:20260308T100000
END:DAYLIGHT
BEGIN:STANDARD
TZOFFSETFROM:-0700
TZOFFSETTO:-0800
TZNAME:PST
DTSTART:20261101T090000
END:STANDARD
END:VTIMEZONE
BEGIN:VTIMEZONE
TZID:America/Denver
BEGIN:DAYLIGHT
TZOFFSETFROM:-0700
TZOFFSETTO:-0600
TZNAME:MDT
DTSTART:20240310T090000
END:DAYLIGHT
BEGIN:STANDARD
TZOFFSETFROM:-0600
TZOFFSETTO:-0700
TZNAME:MST
DTSTART:20241103T080000
END:STANDARD
BEGIN:DAYLIGHT
TZOFFSETFROM:-0700
TZOFFSETTO:-0600
TZNAME:MDT
DTSTART:20250309T090000
END:DAYLIGHT
BEGIN:STANDARD
TZOFFSETFROM:-0600
TZOFFSETTO:-0700
TZNAME:MST
DTSTART:20251102T080000
END:STANDARD
BEGIN:DAYLIGHT
TZOFFSETFROM:-0700
TZOFFSETTO:-0600
TZNAME:MDT
DTSTART:20260308T090000
END:DAYLIGHT
BEGIN:STANDARD
TZOFFSETFROM:-0600
TZOFFSETTO:-0700
TZNAME:MST
DTSTART:20261101T080000
END:STANDARD
END:VTIMEZONE
BEGIN:VTIMEZONE
TZID:America/Chicago
BEGIN:DAYLIGHT
TZOFFSETFROM:-0600
TZOFFSETTO:-0500
TZNAME:CDT
DTSTART:20240310T080000
END:DAYLIGHT
BEGIN:STANDARD
TZOFFSETFROM:-0500
TZOFFSETTO:-0600
TZNAME:CST
DTSTART:20241103T070000
END:STANDARD
BEGIN:DAYLIGHT
TZOFFSETFROM:-0600
TZOFFSETTO:-0500
TZNAME:CDT
DTSTART:20250309T080000
END:DAYLIGHT
BEGIN:STANDARD
TZOFFSETFROM:-0500
TZOFFSETTO:-0600
TZNAME:CST
DTSTART:20251102T070000
END:STANDARD
BEGIN:DAYLIGHT
TZOFFSETFROM:-0600
TZOFFSETTO:-0500
TZNAME:CDT
DTSTART:20260308T080000
END:DAYLIGHT
BEGIN:STANDARD
TZOFFSETFROM:-0500
TZOFFSETTO:-0600
TZNAME:CST
DTSTART:20261101T070000
END:STANDARD
END:VTIMEZONE
BEGIN:VEVENT
DTSTART;TZID=America/Los_Angeles:20251201T090000
DTEND;TZID=America/Los_Angeles:20251201T100000
DTSTAMP:20260422T223847
CREATED:20251107T194235Z
LAST-MODIFIED:20251126T192001Z
UID:10000041-1764579600-1764583200@www.theellescollective.org
SUMMARY:Outil du Mois – Substack : créer et développer sa newsletter
DESCRIPTION:Outil du Mois – Substack : créer et développer sa newsletter\nAnimé par Alexis Buisson\, journaliste  \nTu veux partager ton expertise\, fidéliser ton audience ou simplement créer un lien plus direct avec ta communauté ?Découvre Substack\, la plateforme qui permet de lancer facilement une newsletter professionnelle\, de publier du contenu et même de monétiser ton travail. \nAu programme de cet atelier : \n\nComprendre les fonctionnalités principales de Substack (publication\, abonnés\, monétisation\nConstruire une newsletter impactante et régulière\nTrouver son ton\, son audience et ses sujets\nLes bonnes pratiques pour développer sa visibilité et son lectorat\n\n  \nÀ propos d’Alexis BuissonJournaliste basé à New York\, Alexis est le créateur de la newsletter Le Caucus sur Substack\, où il décrypte la vie politique américaine pour un public francophone.Il collabore régulièrement avec plusieurs médias francophones tels que La Croix\, Mediapart\, Télérama\, Le Point\, French Morning\, La Libre Belgique\, La Tribune de Genève ou Challenges.Il est également l’auteur de la biographie Kamala Harris\, l’héritière*\, parue aux éditions de l’Archipel\, fruit de plusieurs mois d’enquête et d’entretiens avec des proches\, des collaborateurs et des observateurs de la vice-présidente américaine. \nAvec son regard de journaliste et d’auteur\, Alexis partagera une expérience concrète de l’outil Substack\, ses astuces\, et ce qu’il a appris en développant une audience fidèle autour d’un contenu authentique. \nUn atelier concret\, interactif et inspirant\, pour toutes celles qui veulent mieux communiquer\, raconter\, fédérer… et pourquoi pas\, créer leur propre média. \n➡️ Inscription obligatoire pour recevoir le lien Zoom.Gratuit pour les membres – $20 pour les guests. \n*This is an affiliate link\, and a portion of your purchase will directly support The Elles Collective\, a nonprofit dedicated to empowering French-speaking women entrepreneurs. By shopping through this link\, you help fund our programs and resources\, allowing more women to succeed in their business ventures. Learn more about our mission at www.theellescollective.org. Thank you for supporting us!
URL:https://www.theellescollective.org/event/outil-du-mois-substack-alexis-buisson/
LOCATION:Online
CATEGORIES:Workshop Online
ATTACH;FMTTYPE=image/png:https://www.theellescollective.org/wp-content/uploads/2025/11/OUTIL-DU-MOIS-SUBSTACK.png
END:VEVENT
BEGIN:VEVENT
DTSTART;TZID=America/Denver:20251201T160000
DTEND;TZID=America/Denver:20251201T210000
DTSTAMP:20260422T223847
CREATED:20251111T202058Z
LAST-MODIFIED:20251128T183248Z
UID:10000044-1764604800-1764622800@www.theellescollective.org
SUMMARY:KICK-OFF DENVER
DESCRIPTION:Rencontres Professionnelles – Cherry Creek\n\nLundi 1er décembre 2025 – Denver\, CO \nThe Elles Collective s’installe à Denver !Un événement fondateur pour célébrer le lancement du nouveau chapitre de notre communauté. \nUn grand merci au Consulat de France à Los Angeles\, à l’Alliance Française de Denver\, à la FACC Rocky Mountain\, Quantum Performances Partners\, et à Goudy’s French Cuisine\, partenaires de cet événement. \n(L'adresse exacte vous sera envoyée par email)\nDe 16h à 18h – Workshop “Booster Sprint”\n🔸 Réservé aux femmes francophones \n2 heures de co-développement professionnel pour :• clarifier vos priorités\,• partager vos défis\,• avancer concrètement grâce à l’intelligence collective. \nUn moment d’échanges authentiques et bienveillants entre femmes entrepreneures et actives. \n👉 Les participantes au Booster Sprint seront conviées au cocktail networking et pourront être accompagnées d’un +1. \n\nDe 18h30 à 21h – Cocktail Networking Professionnel\n🔸 Événement uniquement sur invitation🔸 Présence exceptionnelle de M. Adrien Frier\, Consul Général de France à Los Angeles \nUne soirée pour :• découvrir The Elles Collective\,• rencontrer la communauté\,• connecter avec les acteurs de l’écosystème local\,• créer des passerelles professionnelles. \n👉 Inscrivez-vous dès maintenant pour recevoir très prochainement toutes les informations pratiques.
URL:https://www.theellescollective.org/event/save-the-date-kick-off-denver/
ATTACH;FMTTYPE=image/png:https://www.theellescollective.org/wp-content/uploads/2025/11/kick-off-denver-8.png
END:VEVENT
BEGIN:VEVENT
DTSTART;TZID=America/Los_Angeles:20251204T103000
DTEND;TZID=America/Los_Angeles:20251204T120000
DTSTAMP:20260422T223847
CREATED:20251121T220434Z
LAST-MODIFIED:20251202T182945Z
UID:10000051-1764844200-1764849600@www.theellescollective.org
SUMMARY:Meet the Elles Los Angeles – Booster Walk
DESCRIPTION:Meet the Elles Los Angeles – Booster Walk \nEt si on boostait nos projets en marchant ? \nRejoins-nous pour un moment unique qui combine networking\, inspiration et mouvement. \nLe concept : \n\nOn part marcher ensemble dans un cadre agréable.\nEn petits groupes\, le thème de la marche sera « Quelle est ta problématique et comment je peux t’aider »\nToutes les 10–15 minutes\, on change de groupe pour multiplier les échanges.\nOn termine avec un rapide débrief collectif pour repartir boostée d’idées et d’énergie !\n\nUn format différent\, qui permet de respirer\, de s’aérer l’esprit et de créer des connexions authentiques en toute simplicité. \nRDV au croisement Via Dolce & S. Esplanade E\, Playa del Rey\, Los Angeles\, CA 90293. Point GPS : https://www.google.com/maps?q=33.9755112\,-118.4598574&entry=gps&lucs=\,94275411\,94284511\,94224825\,94227247\,94227248\,94231188\,94280564\,47071704\,47069508\,94218641\,94282134\,94203019\,47084304&g_ep=CAISEjI1LjM4LjAuODA3MzYwMDM5MBgAIIgnKnUsOTQyNzU0MTEsOTQyODQ1MTEsOTQyMjQ4MjUsOTQyMjcyNDcsOTQyMjcyNDgsOTQyMzExODgsOTQyODA1NjQsNDcwNzE3MDQsNDcwNjk1MDgsOTQyMTg2NDEsOTQyODIxMzQsOTQyMDMwMTksNDcwODQzMDRCAlVT&skid=2cdfecd9-dbbb-4392-a2b5-ea6107c076e3&g_st=ipc \nViens avec ton énergie\, tes baskets et ton projet à partager ! \nNouvelle ? Tu n’as encore jamais assisté à l’une de nos rencontres ? Tu peux venir une fois en tant qu’invitée. \nInscris-toi vite !
URL:https://www.theellescollective.org/event/meet-the-elles-los-angeles-booster-walk-3/
ATTACH;FMTTYPE=image/png:https://www.theellescollective.org/wp-content/uploads/2025/11/Meet-the-Elles-LA-PLAYA-dec-4.png
END:VEVENT
BEGIN:VEVENT
DTSTART;TZID=America/Los_Angeles:20251204T150000
DTEND;TZID=America/Los_Angeles:20251204T170000
DTSTAMP:20260422T223847
CREATED:20251113T171022Z
LAST-MODIFIED:20251113T171022Z
UID:10000045-1764860400-1764867600@www.theellescollective.org
SUMMARY:Meet the Elles San Diego – Booster Walk
DESCRIPTION:Meet the Elles San Diego – Booster Walk \nEt si on boostait nos projets en marchant ? \nRejoins-nous pour un moment unique qui combine networking\, inspiration et mouvement. \nLe concept : \n\nOn part marcher ensemble dans un cadre agréable.\nEn petits groupes\, pour parler librement dans un espace bienveillant et pour avancer ensemble dans nos projets\, trouver des idées\, du soutien et des perspectives nouvelles.\nToutes les 10–15 minutes\, on change de groupe pour multiplier les échanges.\nOn termine avec un rapide débrief collectif pour repartir boostée d’idées et d’énergie !\n\nUn format différent\, qui permet de respirer\, de s’aérer l’esprit et de créer des connexions authentiques en toute simplicité. \nRDV au Fanuel Street ParkLa Palma St & Fanuel St\, San Diego\, CA 92109\, \n\nViens avec ton énergie\, tes baskets et ton projet à partager ! \nNouvelle ? Tu n’as encore jamais assisté à l’une de nos rencontres ? Tu peux venir une fois en tant qu’invitée. \nInscris-toi vite !
URL:https://www.theellescollective.org/event/meet-the-elles-san-diego-booster-walk-2/
ATTACH;FMTTYPE=image/png:https://www.theellescollective.org/wp-content/uploads/2025/11/Meet-the-Elles-SD-BOOSTER-WALK-DEC-2025.png
END:VEVENT
BEGIN:VEVENT
DTSTART;TZID=America/Chicago:20251205T083000
DTEND;TZID=America/Chicago:20251205T170000
DTSTAMP:20260422T223847
CREATED:20251204T165908Z
LAST-MODIFIED:20251204T185602Z
UID:10000054-1764923400-1764954000@www.theellescollective.org
SUMMARY:Meet the Elles Chicago
DESCRIPTION:Participez à notre Meet the Elles Chicago\, une rencontre dédiée au networking professionnel. \nAu programme : échanges bienveillants\, partage de ressources\, retours d’expérience et opportunités de collaboration.Un moment privilégié pour développer votre réseau et rencontrer d’autres femmes francophones engagées et ambitieuses. \nOuvert à toutes. \nInscription obligatoire.
URL:https://www.theellescollective.org/event/7891/
ATTACH;FMTTYPE=image/png:https://www.theellescollective.org/wp-content/uploads/2025/12/CHICAGO-DEC-25.png
END:VEVENT
END:VCALENDAR