BEGIN:VCALENDAR
VERSION:2.0
PRODID:-//The Elles Collective - ECPv6.15.20//NONSGML v1.0//EN
CALSCALE:GREGORIAN
METHOD:PUBLISH
X-WR-CALNAME:The Elles Collective
X-ORIGINAL-URL:https://www.theellescollective.org
X-WR-CALDESC:Events for The Elles Collective
REFRESH-INTERVAL;VALUE=DURATION:PT1H
X-Robots-Tag:noindex
X-PUBLISHED-TTL:PT1H
BEGIN:VTIMEZONE
TZID:America/Los_Angeles
BEGIN:DAYLIGHT
TZOFFSETFROM:-0800
TZOFFSETTO:-0700
TZNAME:PDT
DTSTART:20250309T100000
END:DAYLIGHT
BEGIN:STANDARD
TZOFFSETFROM:-0700
TZOFFSETTO:-0800
TZNAME:PST
DTSTART:20251102T090000
END:STANDARD
BEGIN:DAYLIGHT
TZOFFSETFROM:-0800
TZOFFSETTO:-0700
TZNAME:PDT
DTSTART:20260308T100000
END:DAYLIGHT
BEGIN:STANDARD
TZOFFSETFROM:-0700
TZOFFSETTO:-0800
TZNAME:PST
DTSTART:20261101T090000
END:STANDARD
BEGIN:DAYLIGHT
TZOFFSETFROM:-0800
TZOFFSETTO:-0700
TZNAME:PDT
DTSTART:20270314T100000
END:DAYLIGHT
BEGIN:STANDARD
TZOFFSETFROM:-0700
TZOFFSETTO:-0800
TZNAME:PST
DTSTART:20271107T090000
END:STANDARD
END:VTIMEZONE
BEGIN:VTIMEZONE
TZID:America/New_York
BEGIN:DAYLIGHT
TZOFFSETFROM:-0500
TZOFFSETTO:-0400
TZNAME:EDT
DTSTART:20250309T070000
END:DAYLIGHT
BEGIN:STANDARD
TZOFFSETFROM:-0400
TZOFFSETTO:-0500
TZNAME:EST
DTSTART:20251102T060000
END:STANDARD
BEGIN:DAYLIGHT
TZOFFSETFROM:-0500
TZOFFSETTO:-0400
TZNAME:EDT
DTSTART:20260308T070000
END:DAYLIGHT
BEGIN:STANDARD
TZOFFSETFROM:-0400
TZOFFSETTO:-0500
TZNAME:EST
DTSTART:20261101T060000
END:STANDARD
BEGIN:DAYLIGHT
TZOFFSETFROM:-0500
TZOFFSETTO:-0400
TZNAME:EDT
DTSTART:20270314T070000
END:DAYLIGHT
BEGIN:STANDARD
TZOFFSETFROM:-0400
TZOFFSETTO:-0500
TZNAME:EST
DTSTART:20271107T060000
END:STANDARD
END:VTIMEZONE
BEGIN:VEVENT
DTSTART;TZID=America/Los_Angeles:20260316T080000
DTEND;TZID=America/Los_Angeles:20260326T233000
DTSTAMP:20260422T223839
CREATED:20260316T160356Z
LAST-MODIFIED:20260316T162443Z
UID:10000096-1773648000-1774567800@www.theellescollective.org
SUMMARY:Auction - Vente aux enchères Donnons des Ailes 2026
DESCRIPTION:Dans le cadre de notre campagne de fundraising\, nous vous invitons à découvrir les nombreux lots et expériences proposés par notre communauté et nos partenaires. \nPrenez quelques minutes pour parcourir les lots\, repérer vos favoris et commencer à enchérir ! \n🔗 Accéder à l’auction :https://www.zeffy.com/en-US/ticketing/auction-donnons-des-ailes–2026 \nChaque enchère contribue directement à soutenir The Elles Collective\, une organisation à but non lucratif qui connecte et accompagne les femmes francophones dans leur parcours professionnel aux États-Unis. \nMerci pour votre soutien et bonne chance aux enchères !
URL:https://www.theellescollective.org/event/auction-vente-aux-encheres-donnons-des-ailes-2026/
ATTACH;FMTTYPE=image/jpeg:https://www.theellescollective.org/wp-content/uploads/2026/03/Copy-of-Campagne-fundraising-2026-1.jpg
END:VEVENT
BEGIN:VEVENT
DTSTART;TZID=America/New_York:20260316T113000
DTEND;TZID=America/New_York:20260316T133000
DTSTAMP:20260422T223839
CREATED:20260302T215125Z
LAST-MODIFIED:20260312T144616Z
UID:10000086-1773660600-1773667800@www.theellescollective.org
SUMMARY:Virtual Accountable Coworking Session – Members only
DESCRIPTION:Besoin de motivation\, d’un cadre\, ou simplement de ne pas rester seule derrière ton écran ?Rejoins notre session virtuelle de coworking ! \nLe principe :– On se connecte toutes à l’heure précise pour un démarrage collectif : on se dit bonjour\, on partage sa to-do list du jour\, et on définit ses priorités.– Puis\, place au focus ! Chacune travaille de son côté\, caméra allumée ou non\, dans une atmosphère calme et motivante.– Pas de nouvelles connexions après le démarrage\, pour préserver la concentration. \nOn termine par un petit check-out pour célébrer nos avancées et se féliciter \nUn rendez-vous bienveillant et productif pour avancer ensemble\, tout en cassant la solitude. \n 11h30AM à 1:30PM Eastern Time – 08h30 à 10h30 Pacific TimeRéservé aux membres The Elles CollectiveEn ligne\, lien Zoom envoyé après inscription \nInscris-toi !
URL:https://www.theellescollective.org/event/virtual-accountable-coworking-session-members-only-3/
ATTACH;FMTTYPE=image/jpeg:https://www.theellescollective.org/wp-content/uploads/2026/03/Virtual-Coworking-Session-16-mars.jpg
LOCATION:https://us06web.zoom.us/j/84127658620
END:VEVENT
BEGIN:VEVENT
DTSTART;TZID=America/Los_Angeles:20260317T100000
DTEND;TZID=America/Los_Angeles:20260317T120000
DTSTAMP:20260422T223839
CREATED:20260305T175123Z
LAST-MODIFIED:20260305T175123Z
UID:10000090-1773741600-1773748800@www.theellescollective.org
SUMMARY:Meet the Elles Los Angeles - Booster Walk
DESCRIPTION:Meet the Elles Los Angeles – Booster Walk\nEt si on boostait nos projets en marchant ? \nRejoins-nous pour un moment unique qui combine networking\, inspiration et mouvement. \nLe concept :\n• On marche ensemble dans un cadre agréable.• En petits groupes\, pour échanger librement dans un espace bienveillant : avancer sur nos projets\, trouver des idées\, du soutien et de nouvelles perspectives.• Toutes les 10–15 minutes\, on change de groupe pour multiplier les rencontres.• On termine avec un court débrief collectif pour repartir boostée d’énergie… et d’idées ! \nUn format différent qui permet de respirer\, s’aérer l’esprit et créer des connexions authentiques en toute simplicité. \nVenez marcher le long de l’océan (parking près de Playa Provisions) pour faire le bilan à mi-parcours de la campagne de fundraising\, de vos réussites et de vos challenges pros. \n\nNouvelle ?Tu n’as encore jamais assisté à l’une de nos rencontres ?Tu peux participer une fois en tant qu’invitée. \n👉 Inscris-toi vite !
URL:https://www.theellescollective.org/event/meet-the-elles-los-angeles-booster-walk-5/
ATTACH;FMTTYPE=image/jpeg:https://www.theellescollective.org/wp-content/uploads/2026/03/Meet-the-Elles-LA-24-BOOSTER-WALK-0326.jpg
END:VEVENT
BEGIN:VEVENT
DTSTART;TZID=America/Los_Angeles:20260319T100000
DTEND;TZID=America/Los_Angeles:20260319T120000
DTSTAMP:20260422T223839
CREATED:20260304T204219Z
LAST-MODIFIED:20260304T205016Z
UID:10000089-1773914400-1773921600@www.theellescollective.org
SUMMARY:Meet the Elles Los Angeles
DESCRIPTION:Meet the Elles – Rencontre littéraire avec Nathalie Bollecker \nPour notre Meet the Elles du 19 mars\, nous vous proposons une parenthèse littéraire et inspirante autour d’une rencontre avec Nathalie Bollecker\, écrivaine. Passionnée par les mots et les histoires humaines\, elle explore à travers son écriture les thèmes de la mémoire\, de l’amour et des trajectoires de vie. \nElle viendra nous présenter son livre “Poussière de vie\, poussière d’amour” et partager avec nous son parcours\, son histoire et son expérience du métier d’écrivain. \nAu fil de la conversation\, nous aborderons son processus créatif\, les inspirations derrière son livre et les émotions qui ont nourri son écriture. \nL’échange sera mené par Christele Jaime\, pour une discussion vivante\, sincère et inspirante. \nÀ l’issue de la rencontre\, celles qui le souhaitent pourront acheter son livre et obtenir une dédicace personnalisée. \nNous aurons le plaisir d’être accueillies par Cynthia Hajjar\, au cœur de Beverly Hills\, pour un moment café-croissant chaleureux\, fidèle à l’esprit des Meet the Elles : se rencontrer\, échanger et s’inspirer. \n📍 Beverly Hills(adresse communiquée après inscription) \nInscription obligatoire \n🎟 Gratuit pour les membres🎟 20$ pour les invitées
URL:https://www.theellescollective.org/event/meet-the-elles-los-angeles-4/
ATTACH;FMTTYPE=image/jpeg:https://www.theellescollective.org/wp-content/uploads/2026/03/Meet-the-Elles-la-mars-2026.jpg
END:VEVENT
BEGIN:VEVENT
DTSTART;TZID=America/Los_Angeles:20260320T090000
DTEND;TZID=America/Los_Angeles:20260320T103000
DTSTAMP:20260422T223839
CREATED:20260311T145120Z
LAST-MODIFIED:20260312T152921Z
UID:10000092-1773997200-1774002600@www.theellescollective.org
SUMMARY:Meet the Elles San Francisco
DESCRIPTION:Meet the Elles – San Francisco\nLes Meet the Elles – San Francisco sont des rendez-vous mensuels dédiés aux femmes francophones entrepreneures et actives qui souhaitent prendre du recul\, monter en compétences et avancer concrètement dans leur activité. \nChaque rencontre est pensée comme un espace structurant\, stimulant et bienveillant\, articulé autour de deux temps forts : \nÉchanges & intelligence collectiveUn temps d’échanges ouverts pour partager ses problématiques\, ses blocages et ses expériences.Grâce au regard du groupe\, chacune bénéficie de retours constructifs\, d’idées nouvelles et de solutions adaptées à sa réalité. \nLes Meet the Elles sont bien plus que du networking : ce sont des moments de respiration stratégique\, où l’on repart avec de la clarté\, de l’énergie et une vraie sensation d’avancer. \n👉 Première participation ?Tu es la bienvenue une fois en tant qu’invitée pour découvrir l’esprit du collectif. \nInscription obligatoire
URL:https://www.theellescollective.org/event/meet-the-elles-san-francisco-7/
ATTACH;FMTTYPE=image/png:https://www.theellescollective.org/wp-content/uploads/2026/03/Meet-the-Elles-sf-MARS-2026.png
END:VEVENT
BEGIN:VEVENT
DTSTART;TZID=America/Los_Angeles:20260320T180000
DTEND;TZID=America/Los_Angeles:20260320T213000
DTSTAMP:20260422T223839
CREATED:20260305T185404Z
LAST-MODIFIED:20260306T184008Z
UID:10000091-1774029600-1774042200@www.theellescollective.org
SUMMARY:Projection familiale - Orange County
DESCRIPTION:Les Elles du Chapter d’Orange County vous invitent à une soirée cinéma conviviale en famille ! \nDans le cadre de notre campagne de fundraising Donnons des Ailes 2026\, rejoignez-nous pour une projection spéciale du film français Amélie et la Métaphysique des tubes\, en lice pour l’Oscar du Meilleur film d’animation. \nVenez soutenir l’association lors de cet événement chaleureux et ouvert à tous : une projection familiale en français\, accompagnée de gourmandises à la française et boissons proposées à la vente à petits prix\, et d’un beau moment de partage avec les membres de notre communauté… et leurs amis francophiles ! \n📅 Vendredi soirQuittez le travail à 17h et retrouvez-nous à 18h.La projection commencera à 18h45 pour une durée de 1h20. \n🎬 Bande-annonce :https://www.youtube.com/watch?v=4Xy6KHhytCI \nÀ propos du filmAmélie et la Métaphysique des tubes est un film d’animation français réalisé par Maïlys Vallade et Liane-Cho Han\, sorti en 2025. Il s’agit d’une adaptation du roman Métaphysique des tubes d’Amélie Nothomb. \nSynopsisAmélie est une petite fille belge née au Japon. Grâce à Nishio-san\, sa nounou\, le monde n’est qu’aventures et découvertes. Mais le jour de ses trois ans\, un événement change le cours de sa vie. Car à cet âge-là\, pour Amélie\, tout est déjà joué : le bonheur comme la tragédie… \nFilm classé PG – parfait pour une sortie en famille. \n\nPour prendre vos tickets c’est par ici : https://www.zeffy.com/en-US/ticketing/projection-familiale-orange-county \n\n✨ Tous les bénéfices de la soirée seront reversés à la campagne de fundraising de The Elles Collective\, afin de soutenir le développement professionnel des femmes francophones aux États-Unis.
URL:https://www.theellescollective.org/event/projection-familiale-orange-county/
ATTACH;FMTTYPE=image/png:https://www.theellescollective.org/wp-content/uploads/2026/03/Elles-OC-Soiree-Cinema-Fundraising-March-20-1.png
END:VEVENT
BEGIN:VEVENT
DTSTART;TZID=America/Los_Angeles:20260321T170000
DTEND;TZID=America/Los_Angeles:20260321T233000
DTSTAMP:20260422T223839
CREATED:20260304T193100Z
LAST-MODIFIED:20260314T193220Z
UID:10000088-1774112400-1774135800@www.theellescollective.org
SUMMARY:French American Sing-Along Night in San Diego
DESCRIPTION:French-American Sing-Along Night \nJoin us for a warm and joyful evening of music\, food\, and community as we gather for a French-American sing-along night. \nFrom 5 PM until late in the evening\, enjoy live accompaniment by Steve Gold on guitar and Thomas Amilien on piano\, who will guide us through a repertoire of songs loved on both sides of the Atlantic.Expect a playful mix of classics and favorites for all generations: \nFrom The Sound of Music to Starmania\, from Frozen to Les Champs-Élysées\, from Yesterday to La Vie en Rose. \nWhether you are a confident singer or simply enjoy joining the chorus\, this evening is about sharing music together in a relaxed and welcoming atmosphere. \nCome hungry\, come thirsty\, and most of all — come ready to sing.There will also be savory and sweet treats prepared by Frenchlymade\,  thank you for the generous support. \nAll proceeds support The Elles Collective\, a nonprofit dedicated to empowering and connecting French-speaking women across the United States. \nWe look forward to sharing this special evening with you.À bientôt & see you there 🎶 \nTo get your ticket:  \nContact Celine: celamilien@gmail.com \nVenmo Celine @Celine-Amilien \n \n 
URL:https://www.theellescollective.org/event/french-american-sing-along-night-in-san-diego-%f0%9f%87%ab%f0%9f%87%b7%f0%9f%87%ba%f0%9f%87%b8/
ATTACH;FMTTYPE=image/jpeg:https://www.theellescollective.org/wp-content/uploads/2026/03/SING-ALONG-1.jpg
END:VEVENT
END:VCALENDAR