BEGIN:VCALENDAR
VERSION:2.0
PRODID:-//The Elles Collective - ECPv6.15.20//NONSGML v1.0//EN
CALSCALE:GREGORIAN
METHOD:PUBLISH
X-WR-CALNAME:The Elles Collective
X-ORIGINAL-URL:https://www.theellescollective.org
X-WR-CALDESC:Events for The Elles Collective
REFRESH-INTERVAL;VALUE=DURATION:PT1H
X-Robots-Tag:noindex
X-PUBLISHED-TTL:PT1H
BEGIN:VTIMEZONE
TZID:America/Los_Angeles
BEGIN:DAYLIGHT
TZOFFSETFROM:-0800
TZOFFSETTO:-0700
TZNAME:PDT
DTSTART:20250309T100000
END:DAYLIGHT
BEGIN:STANDARD
TZOFFSETFROM:-0700
TZOFFSETTO:-0800
TZNAME:PST
DTSTART:20251102T090000
END:STANDARD
BEGIN:DAYLIGHT
TZOFFSETFROM:-0800
TZOFFSETTO:-0700
TZNAME:PDT
DTSTART:20260308T100000
END:DAYLIGHT
BEGIN:STANDARD
TZOFFSETFROM:-0700
TZOFFSETTO:-0800
TZNAME:PST
DTSTART:20261101T090000
END:STANDARD
BEGIN:DAYLIGHT
TZOFFSETFROM:-0800
TZOFFSETTO:-0700
TZNAME:PDT
DTSTART:20270314T100000
END:DAYLIGHT
BEGIN:STANDARD
TZOFFSETFROM:-0700
TZOFFSETTO:-0800
TZNAME:PST
DTSTART:20271107T090000
END:STANDARD
END:VTIMEZONE
BEGIN:VEVENT
DTSTART;TZID=America/Los_Angeles:20260330T103000
DTEND;TZID=America/Los_Angeles:20260330T123000
DTSTAMP:20260422T164830
CREATED:20260217T174108Z
LAST-MODIFIED:20260318T221204Z
UID:10000073-1774866600-1774873800@www.theellescollective.org
SUMMARY:🎨 Atelier Céramique avec Manuela Dalle - Ouvert aux non-membres
DESCRIPTION:🎨 Atelier Céramique avec Manuela Dalle – Ouvert aux non-membres \nPour lancer notre série d’événements fundraising\, nous vous invitons à un atelier céramique exclusif avec Manuela Dalle\, artiste céramiste basée à Los Angeles. \nAprès une première carrière dans la production de documentaires\, Manuela s’est réinventée à travers la céramique\, développant un univers sensible et contemporain.Elle nous accueillera dans son magnifique atelier\, situé dans les quartiers d’Hollywood. Découvrez son travail ici : https://manueladalle.com/ \nDurée : 2 heuresParticipation : 60 $ par personnePlaces très limitées : 6 participantes uniquement \nRepartez avec vos propres créations et vivez un moment convivial\, créatif et inspirant. \n👉 Pour réserver votre place\, inscrivez-vous ici : https://www.zeffy.com/en-US/ticketing/ceramic-workshop-with-manuela-dalle\nL’adresse exacte sera communiquée après validation complète de l’inscription.Participation non remboursable. \nTous les bénéfices seront reversés à notre campagne de collecte de fonds Donnons des Ailes 2026\, afin de soutenir le développement professionnel des femmes francophones aux États-Unis. \n\n🎨 Ceramic Workshop with Manuela Dalle – Open to non-members \nTo kick off our fundraising event series\, we are delighted to invite you to an exclusive ceramic workshop with Manuela Dalle\, a Los Angeles–based ceramic artist. \nAfter an initial career in documentary production\, Manuela reinvented herself through ceramics\, developing a refined and contemporary artistic universe.She will welcome us into her beautiful studio\, located in the heart of Hollywood. Discover her work here: https://manueladalle.com/ \nDuration: 2 hoursParticipation: $60 per personVery limited spots: only 6 participants \nLeave with your own handmade creations and enjoy a creative\, inspiring\, and convivial experience. \n👉 To reserve your spot\, please register here: https://www.zeffy.com/en-US/ticketing/ceramic-workshop-with-manuela-dalle\nThe exact address will be shared once registration is fully validated.All payments are non-refundable. \nAll proceeds will support our 2026 fundraising campaign\, Donnons des Ailes 2026\, dedicated to empowering French-speaking women in their professional development across the United States.
URL:https://www.theellescollective.org/event/%f0%9f%8e%a8-atelier-ceramique-avec-manuela-dalle/
ATTACH;FMTTYPE=image/png:https://www.theellescollective.org/wp-content/uploads/2026/02/EVENT-ATELIER-CERAMIQUE-4.png
END:VEVENT
BEGIN:VEVENT
DTSTART;TZID=America/Los_Angeles:20260330T110000
DTEND;TZID=America/Los_Angeles:20260330T140000
DTSTAMP:20260422T164830
CREATED:20260325T155242Z
LAST-MODIFIED:20260325T155700Z
UID:10000100-1774868400-1774879200@www.theellescollective.org
SUMMARY:French cooking class in SF
DESCRIPTION:Vous avez toujours rêvé de savoir faire des gougères bien gonflées ? Un fondant au chocolat qui coule vraiment? Alors venez découvrir les recettes de Chrystelle lundi 30 mars de 11h00 à 14h00 ! Après avoir cuisiné\, nous déjeunerons ensemble\, les gougères accompagnées d’une salade\, suivi du fondant. Tout cela dans la bonne humeur et la convivialité. \nNombre de places limitées ! \nPour vous inscrire et recevoir l’adresse\, merci d’envoyer un email à chrystElledepassorio@yahoo.fr OU à contact@theellescollective.org avant le 29 mars. Le paiement se fera par Venmo. \nL’atelier se déroulera en français. \nTous les bénéfices seront reversés à The Elles Collective\, dans le cadre de notre campagne de fundraising Donnons des Ailes aux Elles – Elevate the Elles.
URL:https://www.theellescollective.org/event/french-cooking-class-in-sf/
ATTACH;FMTTYPE=image/jpeg:https://www.theellescollective.org/wp-content/uploads/2026/03/Copy-of-Faiire-une-copie-pour-vos-events-Modele-EN-EVENT-FUNDRAISING-1.jpg
END:VEVENT
BEGIN:VEVENT
DTSTART;TZID=America/Los_Angeles:20260331T120000
DTEND;TZID=America/Los_Angeles:20260331T130000
DTSTAMP:20260422T164830
CREATED:20260313T173652Z
LAST-MODIFIED:20260313T174707Z
UID:10000094-1774958400-1774962000@www.theellescollective.org
SUMMARY:Atelier Aromathérapie :  Créer son skincare au naturel
DESCRIPTION:Alexandrine Michelas – Le Jardin d’Alexandrine\, vous donnera les outils pour comprendre le fonctionnement de votre peau\, réaliser votre auto-diagnostic et mettre en place votre routine skincare essentielle. Vous découvrirez ensuite les ingrédients de base indispensables\, avant de passer à la pratique et de créer votre propre crème personnalisée. \nChaque inscrit recevra des échantillons en amont de l’atelier. Pendant la session en ligne\, Alexandrine vous montrera comment réaliser votre crème à l’aide du matériel que vous aurez reçu. \nAfin de pouvoir envoyer les échantillons à temps\, la clôture des inscriptions aura lieu le lundi 23 mars au soir. \nNotre “Atelier Aromathérapie : Créer son skincare naturel” est ouvert à tous : femmes\, hommes\, adolescents\, membres et non-membres. \nTarif : 30 $ \nPour vous inscrire et recevoir le lien pour nous rejoindre le 31 mars\, merci d’envoyer un email à alexandrine.michelas@gmail.com en indiquant votre adresse postale\, le paiement se fera par Venmo. \nTous les bénéfices seront reversés à The Elles Collective\, dans le cadre de notre campagne de fundraising Donnons des Ailes aux Elles – Elevate the Elles.
URL:https://www.theellescollective.org/event/atelier-aromatherapie-creer-son-skincare-au-naturel/
ATTACH;FMTTYPE=image/png:https://www.theellescollective.org/wp-content/uploads/2026/03/aromatherapie.png
END:VEVENT
BEGIN:VEVENT
DTSTART;TZID=America/Los_Angeles:20260403T090000
DTEND;TZID=America/Los_Angeles:20260403T110000
DTSTAMP:20260422T164830
CREATED:20260327T202203Z
LAST-MODIFIED:20260327T202322Z
UID:10000103-1775206800-1775214000@www.theellescollective.org
SUMMARY:Meet the Elles San Diego - Booster Walk
DESCRIPTION:Meet the Elles San Diego – Booster Walk \nEt si on boostait nos projets en marchant ? \nRejoins-nous pour un moment unique qui combine networking\, inspiration et mouvement. \nLe concept : \n\nOn part marcher ensemble dans un cadre agréable.\nEn petits groupes\, le thème de la marche sera « Quelle est ta problématique et comment je peux t’aider »\nToutes les 10–15 minutes\, on change de groupe pour multiplier les échanges.\nOn termine avec un rapide débrief collectif pour repartir boostée d’idées et d’énergie !\n\nUn format différent\, qui permet de respirer\, de s’aérer l’esprit et de créer des connexions authentiques en toute simplicité. \nRDV au Miramar Lake Parking – Miramar Lake Road\, San Diego\, CA 92131 \nViens avec ton énergie\, tes baskets et ton projet à partager ! \nNouvelle ? Tu n’as encore jamais assisté à l’une de nos rencontres ? Tu peux venir une fois en tant qu’invitée. \nInscris-toi vite !
URL:https://www.theellescollective.org/event/meet-the-elles-san-diego-booster-walk-4/
ATTACH;FMTTYPE=image/jpeg:https://www.theellescollective.org/wp-content/uploads/2026/03/Meet-the-Elles-SD-BOOSTER-WALK-AVRIL-2026.jpg
END:VEVENT
END:VCALENDAR