BEGIN:VCALENDAR
VERSION:2.0
PRODID:-//The Elles Collective - ECPv6.15.20//NONSGML v1.0//EN
CALSCALE:GREGORIAN
METHOD:PUBLISH
X-WR-CALNAME:The Elles Collective
X-ORIGINAL-URL:https://www.theellescollective.org
X-WR-CALDESC:Events for The Elles Collective
REFRESH-INTERVAL;VALUE=DURATION:PT1H
X-Robots-Tag:noindex
X-PUBLISHED-TTL:PT1H
BEGIN:VTIMEZONE
TZID:America/New_York
BEGIN:DAYLIGHT
TZOFFSETFROM:-0500
TZOFFSETTO:-0400
TZNAME:EDT
DTSTART:20250309T070000
END:DAYLIGHT
BEGIN:STANDARD
TZOFFSETFROM:-0400
TZOFFSETTO:-0500
TZNAME:EST
DTSTART:20251102T060000
END:STANDARD
BEGIN:DAYLIGHT
TZOFFSETFROM:-0500
TZOFFSETTO:-0400
TZNAME:EDT
DTSTART:20260308T070000
END:DAYLIGHT
BEGIN:STANDARD
TZOFFSETFROM:-0400
TZOFFSETTO:-0500
TZNAME:EST
DTSTART:20261101T060000
END:STANDARD
BEGIN:DAYLIGHT
TZOFFSETFROM:-0500
TZOFFSETTO:-0400
TZNAME:EDT
DTSTART:20270314T070000
END:DAYLIGHT
BEGIN:STANDARD
TZOFFSETFROM:-0400
TZOFFSETTO:-0500
TZNAME:EST
DTSTART:20271107T060000
END:STANDARD
END:VTIMEZONE
BEGIN:VTIMEZONE
TZID:America/Denver
BEGIN:DAYLIGHT
TZOFFSETFROM:-0700
TZOFFSETTO:-0600
TZNAME:MDT
DTSTART:20250309T090000
END:DAYLIGHT
BEGIN:STANDARD
TZOFFSETFROM:-0600
TZOFFSETTO:-0700
TZNAME:MST
DTSTART:20251102T080000
END:STANDARD
BEGIN:DAYLIGHT
TZOFFSETFROM:-0700
TZOFFSETTO:-0600
TZNAME:MDT
DTSTART:20260308T090000
END:DAYLIGHT
BEGIN:STANDARD
TZOFFSETFROM:-0600
TZOFFSETTO:-0700
TZNAME:MST
DTSTART:20261101T080000
END:STANDARD
BEGIN:DAYLIGHT
TZOFFSETFROM:-0700
TZOFFSETTO:-0600
TZNAME:MDT
DTSTART:20270314T090000
END:DAYLIGHT
BEGIN:STANDARD
TZOFFSETFROM:-0600
TZOFFSETTO:-0700
TZNAME:MST
DTSTART:20271107T080000
END:STANDARD
END:VTIMEZONE
BEGIN:VTIMEZONE
TZID:America/Los_Angeles
BEGIN:DAYLIGHT
TZOFFSETFROM:-0800
TZOFFSETTO:-0700
TZNAME:PDT
DTSTART:20250309T100000
END:DAYLIGHT
BEGIN:STANDARD
TZOFFSETFROM:-0700
TZOFFSETTO:-0800
TZNAME:PST
DTSTART:20251102T090000
END:STANDARD
BEGIN:DAYLIGHT
TZOFFSETFROM:-0800
TZOFFSETTO:-0700
TZNAME:PDT
DTSTART:20260308T100000
END:DAYLIGHT
BEGIN:STANDARD
TZOFFSETFROM:-0700
TZOFFSETTO:-0800
TZNAME:PST
DTSTART:20261101T090000
END:STANDARD
BEGIN:DAYLIGHT
TZOFFSETFROM:-0800
TZOFFSETTO:-0700
TZNAME:PDT
DTSTART:20270314T100000
END:DAYLIGHT
BEGIN:STANDARD
TZOFFSETFROM:-0700
TZOFFSETTO:-0800
TZNAME:PST
DTSTART:20271107T090000
END:STANDARD
END:VTIMEZONE
BEGIN:VEVENT
DTSTART;TZID=America/New_York:20260406T113000
DTEND;TZID=America/New_York:20260406T133000
DTSTAMP:20260423T111240
CREATED:20260325T182206Z
LAST-MODIFIED:20260325T182206Z
UID:10000101-1775475000-1775482200@www.theellescollective.org
SUMMARY:Virtual Accountable Coworking Session – Members only
DESCRIPTION:Besoin de motivation\, d’un cadre\, ou simplement de ne pas rester seule derrière ton écran ?Rejoins notre session virtuelle de coworking ! \nLe principe :– On se connecte toutes à l’heure précise pour un démarrage collectif : on se dit bonjour\, on partage sa to-do list du jour\, et on définit ses priorités.– Puis\, place au focus ! Chacune travaille de son côté\, caméra allumée ou non\, dans une atmosphère calme et motivante.– Pas de nouvelles connexions après le démarrage\, pour préserver la concentration. \nOn termine par un petit check-out pour célébrer nos avancées et se féliciter \nUn rendez-vous bienveillant et productif pour avancer ensemble\, tout en cassant la solitude. \n 11h30AM à 1:30PM Eastern Time – 08h30 à 10h30 Pacific TimeRéservé aux membres The Elles CollectiveEn ligne\, lien Zoom envoyé après inscription \nInscris-toi !
URL:https://www.theellescollective.org/event/virtual-accountable-coworking-session-members-only-4/
ATTACH;FMTTYPE=image/jpeg:https://www.theellescollective.org/wp-content/uploads/2026/03/Virtual-Coworking-Session-06-avril.jpg
END:VEVENT
BEGIN:VEVENT
DTSTART;TZID=America/Denver:20260407T160000
DTEND;TZID=America/Denver:20260407T210000
DTSTAMP:20260423T111240
CREATED:20260224T201907Z
LAST-MODIFIED:20260325T163631Z
UID:10000077-1775577600-1775595600@www.theellescollective.org
SUMMARY:KICK-OFF CHICAGO
DESCRIPTION:Rencontres Professionnelles Francophones Chicago\nLe 07 avril 2026 \nUn événement fondateur pour célébrer le lancement du nouveau chapter de notre communauté et rassembler les femmes francophones entrepreneures et actives de la région. \nUn immense merci à nos partenaires de cet événement : le Consulat général de France à Chicago\, la FACC Chicago (French-American Chamber of Commerce Chicago)\, l’Alliance Française de Chicago\, au Lycée Français de Chicago de nous accueillir  ainsi que la Délégation du Québec\, pour leur soutien. \nMerci également à nos sponsors Axxum Consulting et Key2Int pour leur précieuse contribution. \nDe 4pm à 6pm – Workshop “Booster Sprint”\n🔸 Réservé aux femmes francophones \n2 heures de co-développement professionnel pour :• clarifier vos priorités\,• partager vos défis\,• avancer concrètement grâce à l’intelligence collective. \nUn moment d’échanges authentiques et bienveillants entre femmes entrepreneures et actives. \n👉 Les participantes au Booster Sprint seront conviées au cocktail networking et pourront être accompagnées d’un +1. \n\nDe 6:30pm à 9pm – Cocktail Networking Professionnel\n🔸 Événement uniquement sur invitation🔸 Présence exceptionnelle de Mme Charlotte Montel\, Consule Général de France à Chicago. \nUne soirée pour :• découvrir The Elles Collective\,• rencontrer la communauté\,• connecter avec les acteurs de l’écosystème local\,• créer des passerelles professionnelles. \n👉 Inscrivez-vous dès maintenant pour recevoir très prochainement toutes les informations pratiques. \n⚠️ Événement réservé aux personnes de 21 ans et plus.Présentation d’une pièce d’identité valide obligatoire à l’entrée.
URL:https://www.theellescollective.org/event/kick-off-chicago/
ATTACH;FMTTYPE=image/jpeg:https://www.theellescollective.org/wp-content/uploads/2026/02/kick-off-chicago-10.jpg
END:VEVENT
BEGIN:VEVENT
DTSTART;TZID=America/Denver:20260410T120000
DTEND;TZID=America/Denver:20260410T140000
DTSTAMP:20260423T111240
CREATED:20260407T033151Z
LAST-MODIFIED:20260407T033247Z
UID:10000108-1775822400-1775829600@www.theellescollective.org
SUMMARY:Meet the Elles Denver
DESCRIPTION:Meet the Elles – Denver\nUn moment pour se rencontrer\, échanger et avancer ensemble. \nLe Meet the Elles Denver est un rendez-vous convivial dédié aux femmes francophones entrepreneures\, freelances\, salariées ou en transition professionnelle installées dans le Colorado. \nAu programme :✨ Networking bienveillant✨ Partage d’expériences et de projets✨ Feedback et intelligence collective✨ Connexions authentiques \nQue vous souhaitiez développer votre activité\, élargir votre réseau\, trouver du soutien ou simplement rencontrer d’autres femmes qui partagent la même énergie\, ce moment est pensé pour vous. \nNotre mission ?Créer un espace où chacune peut oser\, partager ses challenges\, célébrer ses réussites et repartir avec plus de clarté et d’élan. \n👉 Nouvelle ?Vous pouvez participer une première fois en tant qu’invitée afin de découvrir l’esprit du collectif. \nNous avons hâte de vous accueillir à Denver et de faire grandir cette belle dynamique locale. \nInscription obligatoire
URL:https://www.theellescollective.org/event/meet-the-elles-denver-3/
ATTACH;FMTTYPE=image/jpeg:https://www.theellescollective.org/wp-content/uploads/2026/04/Meet-the-Elles-DENVER-AVRIL-2026.jpg
END:VEVENT
BEGIN:VEVENT
DTSTART;TZID=America/Los_Angeles:20260411T130000
DTEND;TZID=America/Los_Angeles:20260411T143000
DTSTAMP:20260423T111240
CREATED:20260226T171411Z
LAST-MODIFIED:20260226T174322Z
UID:10000082-1775912400-1775917800@www.theellescollective.org
SUMMARY:Virginia Robinson Gardens historical tour
DESCRIPTION:Enjoy a private\, docent-led tour of the Virginia Robinson Gardens with our very own Laurelle Johnson\, member of The Elles Collective. She will guide you through a 90-minute exploration of the estate’s six acres of stunning gardens and several of its historic buildings.\nDiscover this hidden gem in Beverly Hills while supporting our nonprofit’s mission to help French-speaking women thrive and succeed in the United States. \nWhere: 1008 Elden Way\, Beverly Hills \nPrice: $18 per person. For adults and teens from 16yo \nReserve your spot now by purchasing your ticket here: https://www.zeffy.com/en-US/ticketing/virginia-robinson-gardens-historical-tour\n Limited to 10 participants \nAll benefits will be donated to The Elles Collective\, the first francophone community of business women in the US!
URL:https://www.theellescollective.org/event/virginia-robinson-gardens-historical-tour/
ATTACH;FMTTYPE=image/jpeg:https://www.theellescollective.org/wp-content/uploads/2026/02/Visite-Laurelle-jardins-110426.jpg
END:VEVENT
END:VCALENDAR