BEGIN:VCALENDAR
VERSION:2.0
PRODID:-//The Elles Collective - ECPv6.15.20//NONSGML v1.0//EN
CALSCALE:GREGORIAN
METHOD:PUBLISH
X-WR-CALNAME:The Elles Collective
X-ORIGINAL-URL:https://www.theellescollective.org
X-WR-CALDESC:Events for The Elles Collective
REFRESH-INTERVAL;VALUE=DURATION:PT1H
X-Robots-Tag:noindex
X-PUBLISHED-TTL:PT1H
BEGIN:VTIMEZONE
TZID:America/Los_Angeles
BEGIN:DAYLIGHT
TZOFFSETFROM:-0800
TZOFFSETTO:-0700
TZNAME:PDT
DTSTART:20250309T100000
END:DAYLIGHT
BEGIN:STANDARD
TZOFFSETFROM:-0700
TZOFFSETTO:-0800
TZNAME:PST
DTSTART:20251102T090000
END:STANDARD
BEGIN:DAYLIGHT
TZOFFSETFROM:-0800
TZOFFSETTO:-0700
TZNAME:PDT
DTSTART:20260308T100000
END:DAYLIGHT
BEGIN:STANDARD
TZOFFSETFROM:-0700
TZOFFSETTO:-0800
TZNAME:PST
DTSTART:20261101T090000
END:STANDARD
BEGIN:DAYLIGHT
TZOFFSETFROM:-0800
TZOFFSETTO:-0700
TZNAME:PDT
DTSTART:20270314T100000
END:DAYLIGHT
BEGIN:STANDARD
TZOFFSETFROM:-0700
TZOFFSETTO:-0800
TZNAME:PST
DTSTART:20271107T090000
END:STANDARD
END:VTIMEZONE
BEGIN:VEVENT
DTSTART;TZID=America/Los_Angeles:20260414T091500
DTEND;TZID=America/Los_Angeles:20260414T103000
DTSTAMP:20260422T152728
CREATED:20260317T183531Z
LAST-MODIFIED:20260317T183531Z
UID:10000098-1776158100-1776162600@www.theellescollective.org
SUMMARY:Café Virtu’Elles Avril 2026
DESCRIPTION:Rejoins-nous pour notre café Virtu’Elles\, événement networking 100% dédié aux femmes francophones actives ou entrepreneures aux États-Unis ! \nNous nous rencontrerons\, nous échangerons\, nous réseauterons pour développer notre réseau professionnel\, partager des expériences\, trouver de l’entraide en toute bienveillance. \nC’est aussi l’opportunité de présenter son business ou son projet\, pour une de nos membres\, qui souhaite entrainer son pitch et recevoir du feedback ! \nSi tu es membre et que tu souhaites être notre invitée focus* pour un de nos cafés\, inscris-toi ici => https://www.signupgenius.com/go/10C094FA8AC23ABFBC52-61207216-focus#/ \nNouvelle ? Découvre notre réseau gratuitement lors de ta première participation ! \nInscris-toi vite ! \n(Inscription obligatoire) \nLe lien zoom de l’évènement se trouve dans l’email de confirmation une fois inscrite. \n  \n*Qu’est-ce que l’invitée focus ?  \nLors de nos Cafés\, une membre peut être “invitée focus”.Cela signifie faire une présentation un peu plus approfondie\, avec quelques slides\, pour partager ton parcours\, ton activité et ce que tu proposes. \nC’est une belle opportunité pour : \n\nt’entraîner à pitcher\,\nrecevoir du feedback si ton message n’est pas encore clair\,\npermettre au groupe de mieux comprendre ce que tu fais.\n\nPlus nous nous connaissons\, mieux nous pouvons réseauter\, parler les unes des autres et créer des connexions parfois indirectes mais toujours précieuses. \nCette possibilité est réservée uniquement aux membres : une invitée qui participe pour la première fois au Café ne peut pas être “invitée focus”.
URL:https://www.theellescollective.org/event/cafe-virtuelles-avril-2026/
ATTACH;FMTTYPE=image/jpeg:https://www.theellescollective.org/wp-content/uploads/2026/03/Cafe-VirtuElles-avril-2026.jpg
LOCATION:https://us06web.zoom.us/j/87905722025
END:VEVENT
BEGIN:VEVENT
DTSTART;TZID=America/Los_Angeles:20260415T120000
DTEND;TZID=America/Los_Angeles:20260415T140000
DTSTAMP:20260422T152728
CREATED:20260330T211230Z
LAST-MODIFIED:20260330T211230Z
UID:10000105-1776254400-1776261600@www.theellescollective.org
SUMMARY:Meet the Elles San Diego
DESCRIPTION:Meet the Elles – San Diego \nUn moment privilégié pour se retrouver entre femmes entrepreneures et porteuses de projets\, dans un cadre bienveillant et stimulant. \nAu programme : \nRencontres et échanges authentiquesPartage d’expériences\, de défis et de réussitesConversations riches et inspirantesIntelligence collective pour débloquer vos problématiques et avancer plus vite \nChaque Meet the Elles est pensé comme une parenthèse ressourçante : un espace où l’on peut parler business en toute transparence\, poser ses questions\, partager ses doutes comme ses ambitions\, et repartir plus alignée\, plus claire\, plus boostée. \nUn rendez-vous pour créer des connexions sincères\, élargir son réseau\, nourrir ses idées et renforcer son élan entrepreneurial\, dans une ambiance chaleureuse et conviviale. \nPremière participation ?Vous êtes la bienvenue une fois en tant qu’invitée afin de découvrir l’esprit du collectif. \nInscription obligatoire
URL:https://www.theellescollective.org/event/meet-the-elles-san-diego-5/
ATTACH;FMTTYPE=image/jpeg:https://www.theellescollective.org/wp-content/uploads/2026/03/Meet-the-Elles-SD-avril-15.jpg
END:VEVENT
BEGIN:VEVENT
DTSTART;TZID=America/Los_Angeles:20260415T180000
DTEND;TZID=America/Los_Angeles:20260415T200000
DTSTAMP:20260422T152728
CREATED:20260401T183552Z
LAST-MODIFIED:20260414T194127Z
UID:10000107-1776276000-1776283200@www.theellescollective.org
SUMMARY:Meet the Elles San Francisco
DESCRIPTION:Meet the Elles San Francisco\nLes Meet the Elles – San Francisco sont des rendez-vous mensuels dédiés aux femmes francophones entrepreneures et actives qui souhaitent prendre du recul\, monter en compétences et avancer concrètement dans leur activité. \nChaque rencontre est pensée comme un espace structurant\, stimulant et bienveillant\, articulé autour de deux temps forts : \nÉchanges & intelligence collectiveUn temps d’échanges ouverts pour partager ses problématiques\, ses blocages et ses expériences.Grâce au regard du groupe\, chacune bénéficie de retours constructifs\, d’idées nouvelles et de solutions adaptées à sa réalité. \nLes Meet the Elles sont bien plus que du networking : ce sont des moments de respiration stratégique\, où l’on repart avec de la clarté\, de l’énergie et une vraie sensation d’avancer. \nPremière participation ?Tu es la bienvenue une fois en tant qu’invitée pour découvrir l’esprit du collectif. \nAfterwork convivial : venez avec de petites choses à partager et grignoter\, et pensez à prendre une petite laine pour profiter pleinement de la soirée. \nInscription obligatoire
URL:https://www.theellescollective.org/event/meet-the-elles-san-francisco-8/
ATTACH;FMTTYPE=image/jpeg:https://www.theellescollective.org/wp-content/uploads/2026/04/Meet-the-Elles-sf-AVRIL-2026-1.jpg
END:VEVENT
BEGIN:VEVENT
DTSTART;TZID=America/Los_Angeles:20260416T103000
DTEND;TZID=America/Los_Angeles:20260416T123000
DTSTAMP:20260422T152728
CREATED:20260220T210608Z
LAST-MODIFIED:20260311T234157Z
UID:10000076-1776335400-1776342600@www.theellescollective.org
SUMMARY:🌊 Venice Beach : l’âme bohème de Los Angeles - Ouvert à tous !
DESCRIPTION:🌊 Venice Beach : l’âme bohème de Los Angeles – Ouvert à tous !\n\nPartez à la découverte de Venice Beach lors d’une visite à pied d’environ 2 heures et plongez dans l’atmosphère bohème et déjantée de l’un des quartiers les plus emblématiques de Los Angeles. Entre océan Pacifique\, street art et culture skate\, Venice dévoile une facette alternative et créative de la Cité des Anges. \nAvec Charlotte de Destinations Off Road \, votre guide\, vous longerez le mythique Ocean Front Walk\, où artistes de rue\, musiciens et performers donnent le ton. Vous découvrirez le célèbre skatepark de Venice\, véritable institution face à la mer\, ainsi que les fresques colorées qui racontent l’histoire et l’âme rebelle du quartier. \nLa visite vous mènera également dans les charmants Venice Canals\, inspirés de Venise\, offrant un contraste surprenant avec l’effervescence du front de mer. Entre villas élégantes\, canaux paisibles et petites passerelles\, vous explorerez un Venice plus intime et inattendu. \nUne balade riche en contrastes\, idéale pour saisir toute la diversité culturelle et artistique de Venice Beach. \n💲 Participation : 35$ par personne pour les membres The Elles Collective – 40$ pour les non-membres \n👥 Visite limitée à 12 participantsLes pourboires ne sont pas inclus et restent à votre appréciation. \nPour réserver votre place\, inscrivez-vous ici : https://www.zeffy.com/en-US/ticketing/venice-beach-lame-boheme-de-los-angeles-ouvert-a-tous\n📍 Le point de rendez-vous exact sera communiqué après inscription. \nTous les bénéfices seront reversés à notre campagne de collecte de fonds Donnons des Ailes 2026\, afin de soutenir le développement professionnel des femmes francophones aux États-Unis.
URL:https://www.theellescollective.org/event/venice-beach-lame-boheme-de-los-angeles-ouvert-aux-non-membres/
ATTACH;FMTTYPE=image/jpeg:https://www.theellescollective.org/wp-content/uploads/2026/02/EVENT-site-VENICE-off-road-1.jpg
END:VEVENT
END:VCALENDAR