BEGIN:VCALENDAR
VERSION:2.0
PRODID:-//The Elles Collective - ECPv6.15.20//NONSGML v1.0//EN
CALSCALE:GREGORIAN
METHOD:PUBLISH
X-ORIGINAL-URL:https://www.theellescollective.org
X-WR-CALDESC:Events for The Elles Collective
REFRESH-INTERVAL;VALUE=DURATION:PT1H
X-Robots-Tag:noindex
X-PUBLISHED-TTL:PT1H
BEGIN:VTIMEZONE
TZID:America/Los_Angeles
BEGIN:DAYLIGHT
TZOFFSETFROM:-0800
TZOFFSETTO:-0700
TZNAME:PDT
DTSTART:20250309T100000
END:DAYLIGHT
BEGIN:STANDARD
TZOFFSETFROM:-0700
TZOFFSETTO:-0800
TZNAME:PST
DTSTART:20251102T090000
END:STANDARD
BEGIN:DAYLIGHT
TZOFFSETFROM:-0800
TZOFFSETTO:-0700
TZNAME:PDT
DTSTART:20260308T100000
END:DAYLIGHT
BEGIN:STANDARD
TZOFFSETFROM:-0700
TZOFFSETTO:-0800
TZNAME:PST
DTSTART:20261101T090000
END:STANDARD
BEGIN:DAYLIGHT
TZOFFSETFROM:-0800
TZOFFSETTO:-0700
TZNAME:PDT
DTSTART:20270314T100000
END:DAYLIGHT
BEGIN:STANDARD
TZOFFSETFROM:-0700
TZOFFSETTO:-0800
TZNAME:PST
DTSTART:20271107T090000
END:STANDARD
END:VTIMEZONE
BEGIN:VTIMEZONE
TZID:America/New_York
BEGIN:DAYLIGHT
TZOFFSETFROM:-0500
TZOFFSETTO:-0400
TZNAME:EDT
DTSTART:20250309T070000
END:DAYLIGHT
BEGIN:STANDARD
TZOFFSETFROM:-0400
TZOFFSETTO:-0500
TZNAME:EST
DTSTART:20251102T060000
END:STANDARD
BEGIN:DAYLIGHT
TZOFFSETFROM:-0500
TZOFFSETTO:-0400
TZNAME:EDT
DTSTART:20260308T070000
END:DAYLIGHT
BEGIN:STANDARD
TZOFFSETFROM:-0400
TZOFFSETTO:-0500
TZNAME:EST
DTSTART:20261101T060000
END:STANDARD
BEGIN:DAYLIGHT
TZOFFSETFROM:-0500
TZOFFSETTO:-0400
TZNAME:EDT
DTSTART:20270314T070000
END:DAYLIGHT
BEGIN:STANDARD
TZOFFSETFROM:-0400
TZOFFSETTO:-0500
TZNAME:EST
DTSTART:20271107T060000
END:STANDARD
END:VTIMEZONE
BEGIN:VEVENT
DTSTART;TZID=America/Los_Angeles:20260420T093000
DTEND;TZID=America/Los_Angeles:20260420T113000
DTSTAMP:20260422T164414
CREATED:20260325T183755Z
LAST-MODIFIED:20260325T184016Z
UID:10000102-1776677400-1776684600@www.theellescollective.org
SUMMARY:Meet the Elles Orange County
DESCRIPTION:Les Meet the Elles Orange County sont des rendez-vous mensuels pensés pour les femmes francophones entrepreneures et actives qui souhaitent prendre du recul\, avancer concrètement et repartir reboostées. \nChaque rencontre s’articule autour de deux temps forts complémentaires : \n1. Un thème business ou un mini-workshopChaque mois\, un sujet différent lié à l’entrepreneuriat\, au développement professionnel ou au mindset (stratégie\, visibilité\, organisation\, confiance\, outils\, équilibre pro/perso…).L’objectif : repartir avec des clés concrètes\, applicables immédiatement. \n2. Un temps d’échanges et de co-réflexionUn espace bienveillant pour partager ses problématiques\, poser ses questions\, échanger des idées et bénéficier de l’intelligence collective du groupe.Ici\, on parle vrai\, on se soutient\, on avance ensemble. \nPourquoi participer ? \n\nClarifier ses priorités\nDébloquer une situation\nPrendre confiance\nCréer du lien avec d’autres femmes qui vivent les mêmes défis\nRepartir énergisée\, inspirée et alignée\n\nLes Meet the Elles ne sont pas de simples événements de networking : ce sont des bulles de respiration et d’élan\, où chacune peut se sentir écoutée\, soutenue et encouragée à passer à l’action. \nPremière participation ?Tu peux découvrir l’esprit du collectif une fois en tant qu’invitée.
URL:https://www.theellescollective.org/event/meet-the-elles-orange-county-6/
ATTACH;FMTTYPE=image/jpeg:https://www.theellescollective.org/wp-content/uploads/2026/03/Meet-the-Elles-OC-AVRIL-26.jpg
END:VEVENT
BEGIN:VEVENT
DTSTART;TZID=America/New_York:20260420T113000
DTEND;TZID=America/New_York:20260420T133000
DTSTAMP:20260422T164414
CREATED:20260410T172450Z
LAST-MODIFIED:20260410T172450Z
UID:10000109-1776684600-1776691800@www.theellescollective.org
SUMMARY:Virtual Accountable Coworking Session – Members only
DESCRIPTION:Tous les 1er et 3e lundis du moisBesoin de motivation\, d’un cadre\, ou simplement de ne pas rester seule derrière ton écran ?Rejoins notre session virtuelle de coworking ! \nLe principe :– On se connecte toutes à l’heure précise pour un démarrage collectif : on se dit bonjour\, on partage sa to-do list du jour\, et on définit ses priorités.– Puis\, place au focus ! Chacune travaille de son côté\, caméra allumée ou non\, dans une atmosphère calme et motivante.– Pas de nouvelles connexions après le démarrage\, pour préserver la concentration. \nOn termine par un petit check-out pour célébrer nos avancées et se féliciter. \nUn rendez-vous bienveillant et productif pour avancer ensemble\, tout en cassant la solitude. \n🕒 11h30 AM à 1:30 PM Eastern Time – 08h30 à 10h30 Pacific TimeRéservé aux membres The Elles CollectiveEn ligne\, lien Zoom envoyé après inscription \nInscris-toi !
URL:https://www.theellescollective.org/event/virtual-accountable-coworking-session-members-only-5/
ATTACH;FMTTYPE=image/jpeg:https://www.theellescollective.org/wp-content/uploads/2026/04/Virtual-Coworking-Session-20-avril.jpg
LOCATION:https://us06web.zoom.us/j/83973211473
END:VEVENT
BEGIN:VEVENT
DTSTART;TZID=America/Los_Angeles:20260420T120000
DTEND;TZID=America/Los_Angeles:20260420T130000
DTSTAMP:20260422T164414
CREATED:20260413T231217Z
LAST-MODIFIED:20260416T194737Z
UID:10000113-1776686400-1776690000@www.theellescollective.org
SUMMARY:Élections des Français de l’étranger : comprendre\, s’informer\, agir - Webinaire informatif
DESCRIPTION:Webinaire informatif\nÉlections des Français de l’étranger : comprendre\, s’informer\, agir \nEn partenariat avec French Cluster et le Consulat général de France à Los Angeles\, The Elles Collective vous propose un webinaire pour mieux comprendre le fonctionnement des élections des Français de l’étranger. \nNotre ambition est de proposer un contenu pédagogique\, clair et accessible\, afin de permettre à chacun(e) de mieux comprendre les enjeux et le fonctionnement de ces élections. Ce webinaire est strictement informatif et neutre : aucun candidat ne prendra la parole. \nNotre objectif : vous donner les clés pour comprendre et participer en tant que citoyen(ne). \nAu programme :\n\nRôle d’un conseiller des Français de l’étranger et du conseil consulaire\nInscription sur les listes électorales\nDates et modalités de vote\nProcurations\nMode de scrutin\n\nChun-Mee Chaline – Consule adjointe\, cheffe de chancellerie au Consulat Général de France à Los Angeles\, sera présente pour répondre à toutes vos questions. \nInscription gratuite et ouverte à tous\nInscription obligatoire pour recevoir le lien Zoom.
URL:https://www.theellescollective.org/event/elections-des-francais-de-letranger-comprendre-sinformer-agir-webinaire-informatif/
ATTACH;FMTTYPE=image/jpeg:https://www.theellescollective.org/wp-content/uploads/2026/04/WEBINAIRE-ELECTIONS.jpg
LOCATION:https://us06web.zoom.us/j/83394331184
END:VEVENT
BEGIN:VEVENT
DTSTART;TZID=America/Los_Angeles:20260421T091500
DTEND;TZID=America/Los_Angeles:20260421T220000
DTSTAMP:20260422T164414
CREATED:20260226T185521Z
LAST-MODIFIED:20260331T151815Z
UID:10000083-1776762900-1776808800@www.theellescollective.org
SUMMARY:Découvrez Scribe : créez des tutoriels professionnels en quelques minutes
DESCRIPTION:Découvrez Scribe : créez des tutoriels professionnels en quelques minutes\nEt si vous pouviez transformer chacune de vos procédures en guide clair\, visuel et prêt à partager… en quelques clics ? \nLors de ce workshop\, Alexia de Brouwer\, fondatrice de A positive future\, nous fera découvrir Scribe\, un outil puissant qui permet de créer automatiquement des tutoriels pas-à-pas à partir de vos actions à l’écran. \nIdéal pour : \n\nDocumenter vos process internes\nCréer des guides clients\nFaciliter l’onboarding\nStructurer votre organisation\nGagner un temps précieux\n\nScribe capture vos manipulations et génère instantanément un guide structuré avec captures d’écran et explications. \nUn outil particulièrement utile pour les entrepreneures\, freelances et équipes qui souhaitent professionnaliser leur communication et fluidifier leur fonctionnement. \nUn atelier concret\, pratique et directement applicable à votre activité. \nInscription obligatoire \nGratuit pour les membres – $20 pour les Guests
URL:https://www.theellescollective.org/event/decouvrez-scribe-creez-des-tutoriels-professionnels-en-quelques-minutes/
ATTACH;FMTTYPE=image/jpeg:https://www.theellescollective.org/wp-content/uploads/2026/02/Copy-of-workshop-SCRIBE.jpg
LOCATION:https://us06web.zoom.us/j/84898351789
END:VEVENT
BEGIN:VEVENT
DTSTART;TZID=America/Los_Angeles:20260424T163000
DTEND;TZID=America/Los_Angeles:20260424T210000
DTSTAMP:20260422T164414
CREATED:20260324T225929Z
LAST-MODIFIED:20260325T154305Z
UID:10000099-1777048200-1777064400@www.theellescollective.org
SUMMARY:Jardin privé - A spring garden party
DESCRIPTION:Hosted by The Elles Collective & The Found Atlas \nAs the light softens\, we gather… \nJoin us for an intimate evening celebrating women\, spring\, and entrepreneurship — with a French touch.Enjoy seasonal bites\, wine\, and meaningful conversations in a beautiful private garden setting. \nDetails:✿ Date / Time: Friday\, April 24th · 4:30 PM – 9:00 PM✿ Location: Mill Valley (address shared upon registration)\n✿ RSVP: contact Anais @ anais.larue@gmail.com \nTickets on sale until March 29th through Venmo @Anais-Larue last digits 4551 \nOpen to all — women and men welcome (21+ event). \nPlease note: Parking can be limited — we encourage carpooling or using Uber. \nCome as you are ✨ \nThank you to our generous sponsors: \n\nMarin Cheese\nFabrique Délices\nPlanet Wine\nMake it home
URL:https://www.theellescollective.org/event/8927/
ATTACH;FMTTYPE=image/jpeg:https://www.theellescollective.org/wp-content/uploads/2026/03/Copy-of-Faiire-une-copie-pour-vos-events-Modele-EN-EVENT-FUNDRAISING.jpg
END:VEVENT
END:VCALENDAR