BEGIN:VCALENDAR
VERSION:2.0
PRODID:-//The Elles Collective - ECPv6.15.20//NONSGML v1.0//EN
CALSCALE:GREGORIAN
METHOD:PUBLISH
X-ORIGINAL-URL:https://www.theellescollective.org
X-WR-CALDESC:Events for The Elles Collective
REFRESH-INTERVAL;VALUE=DURATION:PT1H
X-Robots-Tag:noindex
X-PUBLISHED-TTL:PT1H
BEGIN:VTIMEZONE
TZID:America/Los_Angeles
BEGIN:DAYLIGHT
TZOFFSETFROM:-0800
TZOFFSETTO:-0700
TZNAME:PDT
DTSTART:20240310T100000
END:DAYLIGHT
BEGIN:STANDARD
TZOFFSETFROM:-0700
TZOFFSETTO:-0800
TZNAME:PST
DTSTART:20241103T090000
END:STANDARD
BEGIN:DAYLIGHT
TZOFFSETFROM:-0800
TZOFFSETTO:-0700
TZNAME:PDT
DTSTART:20250309T100000
END:DAYLIGHT
BEGIN:STANDARD
TZOFFSETFROM:-0700
TZOFFSETTO:-0800
TZNAME:PST
DTSTART:20251102T090000
END:STANDARD
BEGIN:DAYLIGHT
TZOFFSETFROM:-0800
TZOFFSETTO:-0700
TZNAME:PDT
DTSTART:20260308T100000
END:DAYLIGHT
BEGIN:STANDARD
TZOFFSETFROM:-0700
TZOFFSETTO:-0800
TZNAME:PST
DTSTART:20261101T090000
END:STANDARD
END:VTIMEZONE
BEGIN:VEVENT
DTSTART;TZID=America/Los_Angeles:20251201T090000
DTEND;TZID=America/Los_Angeles:20251201T100000
DTSTAMP:20260423T083715
CREATED:20251107T194235Z
LAST-MODIFIED:20251126T192001Z
UID:10000041-1764579600-1764583200@www.theellescollective.org
SUMMARY:Outil du Mois – Substack : créer et développer sa newsletter
DESCRIPTION:Outil du Mois – Substack : créer et développer sa newsletter\nAnimé par Alexis Buisson\, journaliste  \nTu veux partager ton expertise\, fidéliser ton audience ou simplement créer un lien plus direct avec ta communauté ?Découvre Substack\, la plateforme qui permet de lancer facilement une newsletter professionnelle\, de publier du contenu et même de monétiser ton travail. \nAu programme de cet atelier : \n\nComprendre les fonctionnalités principales de Substack (publication\, abonnés\, monétisation\nConstruire une newsletter impactante et régulière\nTrouver son ton\, son audience et ses sujets\nLes bonnes pratiques pour développer sa visibilité et son lectorat\n\n  \nÀ propos d’Alexis BuissonJournaliste basé à New York\, Alexis est le créateur de la newsletter Le Caucus sur Substack\, où il décrypte la vie politique américaine pour un public francophone.Il collabore régulièrement avec plusieurs médias francophones tels que La Croix\, Mediapart\, Télérama\, Le Point\, French Morning\, La Libre Belgique\, La Tribune de Genève ou Challenges.Il est également l’auteur de la biographie Kamala Harris\, l’héritière*\, parue aux éditions de l’Archipel\, fruit de plusieurs mois d’enquête et d’entretiens avec des proches\, des collaborateurs et des observateurs de la vice-présidente américaine. \nAvec son regard de journaliste et d’auteur\, Alexis partagera une expérience concrète de l’outil Substack\, ses astuces\, et ce qu’il a appris en développant une audience fidèle autour d’un contenu authentique. \nUn atelier concret\, interactif et inspirant\, pour toutes celles qui veulent mieux communiquer\, raconter\, fédérer… et pourquoi pas\, créer leur propre média. \n➡️ Inscription obligatoire pour recevoir le lien Zoom.Gratuit pour les membres – $20 pour les guests. \n*This is an affiliate link\, and a portion of your purchase will directly support The Elles Collective\, a nonprofit dedicated to empowering French-speaking women entrepreneurs. By shopping through this link\, you help fund our programs and resources\, allowing more women to succeed in their business ventures. Learn more about our mission at www.theellescollective.org. Thank you for supporting us!
URL:https://www.theellescollective.org/event/outil-du-mois-substack-alexis-buisson/
LOCATION:Online
CATEGORIES:Workshop Online
ATTACH;FMTTYPE=image/png:https://www.theellescollective.org/wp-content/uploads/2025/11/OUTIL-DU-MOIS-SUBSTACK.png
END:VEVENT
BEGIN:VEVENT
DTSTART;TZID=America/Los_Angeles:20250930T083000
DTEND;TZID=America/Los_Angeles:20250930T093000
DTSTAMP:20260423T083715
CREATED:20250924T184045Z
LAST-MODIFIED:20250925T170601Z
UID:10000025-1759221000-1759224600@www.theellescollective.org
SUMMARY:Meet the Elles Online - Septembre 2025
DESCRIPTION:Le RV Networking Online des Elles dispersées géographiquement mais unies par le même esprit d’entraide entrepreneuriale ! \nSelon ton fuseau horaire\, retrouve nous sur Zoom avec ton café\, sandwich ou apéro préféré pour : \n– 15 min de Tour de table et Partage d’infos / actus des Elles \n– 45 min d’échanges autour des projets et/ou problématiques de chacune \n \nOuvert à toutes les femmes francophones du monde\, ayant un business ou un projet professionnel aux USA. \n \nSi tu es nouvelle\, tu es bienvenue une fois en tant qu’invitée. \n \nÉvénement 100% francophone ! \n \nInscris-toi vite !   \n(Inscription obligatoire) \n \nAttention au fuseau horaire : RDV 8:30am pour la Californie – 11:30am pour la Floride – 17h30 pour la France
URL:https://www.theellescollective.org/event/networking-online-femmes-entrepreneures-actives-usa/
LOCATION:Online
CATEGORIES:Meet the Elles
ATTACH;FMTTYPE=image/png:https://www.theellescollective.org/wp-content/uploads/2025/09/meet-the-elles-online-septembre-2025.png
END:VEVENT
BEGIN:VEVENT
DTSTART;TZID=America/Los_Angeles:20250820T080000
DTEND;TZID=America/Los_Angeles:20250820T093000
DTSTAMP:20260423T083715
CREATED:20250802T121005Z
LAST-MODIFIED:20250818T152750Z
UID:10000010-1755676800-1755682200@www.theellescollective.org
SUMMARY:Meet the Elles Online
DESCRIPTION:Le RV Networking Online des Elles dispersées géographiquement mais unies par le même esprit d’entraide entrepreneuriale ! \nSelon ton fuseau horaire\, retrouve nous sur Zoom avec ton café\, sandwich ou apéro préféré pour : \n– 15 min de Tour de table et Partage d’infos / actus des Elles \n– 45 min d’échanges autour des projets et/ou problématiques de chacune \n \nOuvert à toutes les femmes francophones du monde\, ayant un business ou un projet entrepreneurial aux USA. \n \nSi tu es nouvelle\, tu es bienvenue une fois en tant qu’invitée – contacte-nous à contact@theellescollective.org pour recevoir ton lien d’invitation. \n \nÉvénement 100% francophone ! \n \nInscris-toi vite !   \n(Inscription obligatoire) \n \nAttention au fuseau horaire : RDV 8:00am pour la Californie – 11:00am pour la Floride – 17h00 pour la France
URL:https://www.theellescollective.org/event/meet-the-elles-online/
LOCATION:Online
CATEGORIES:Meet the Elles
END:VEVENT
END:VCALENDAR